Workbook

Sheet 使い方

Sheet 【令和8年度】大崎上島町国民健康保険税試算
B2: 年度 | C2: =基礎情報!A1 -> 46023 | D2: 加入 期間 | E2: =TEXT(DATE(YEAR(C2),4,1),"GGGE年M月D日")&"～"&TEXT(DATE(YEAR(C2)+1,3,31),"GGGE年M月D日")&"" -> 令和8年4月1日～令和9年3月31日
B4: 加入者情報の入力
B6: 世帯主の国民健康保険への加入の有無 | G6: 加入する
P7: =EOMONTH(基礎情報!$B$8,3) -> 46142 | Q7: =EOMONTH(基礎情報!$B$8,4) -> 46173 | R7: =EOMONTH(基礎情報!$B$8,5) -> 46203 | S7: =EOMONTH(基礎情報!$B$8,6) -> 46234 | T7: =EOMONTH(基礎情報!$B$8,7) -> 46265 | U7: =EOMONTH(基礎情報!$B$8,8) -> 46295 | V7: =EOMONTH(基礎情報!$B$8,9) -> 46326 | W7: =EOMONTH(基礎情報!$B$8,10) -> 46356 | X7: =EOMONTH(基礎情報!$B$8,11) -> 46387 | Y7: =EOMONTH(基礎情報!$B$8,12) -> 46418 | Z7: =EOMONTH(基礎情報!$B$8,13) -> 46446 | AA7: =EOMONTH(基礎情報!$B$8,14) -> 46477
B8: 区分 | C8: 生年月日 | D8: 1/1時点 年齢 | E8: 未就学児 軽減 | F8: 子ども 子育て | G8: 給与収入 | H8: 給与所得 | I8: 公的年金収入 | J8: 雑（年金）所得 | K8: その他所得 | L8: 総所得金額 | M8: 所得割標準額 | N8: 所得金額調整控除チェック | O8: （軽減判定用)給与所得者等チェック | P8: 4月年齢 | Q8: 5月年齢 | R8: 6月年齢 | S8: 7月年齢 | T8: 8月年齢 | U8: 9月年齢 | V8: 10月年齢 | W8: 11月年齢 | X8: 12月年齢 | Y8: 1月年齢 | Z8: 2月年齢 | AA8: 3月年齢 | AB8: 加入月数 | AC8: 介護加入月数 | AD8: 子子支援 加入 | AE8: 医療所得割 | AF8: 医療均等割 | AG8: 支援金分所得割 | AH8: 支援金分均等割 | AI8: 介護所得割 | AJ8: 介護均等割 | AK8: 子子所得割 | AL8: 子子均等割
B9: 世帯主 | D9: =IF(C9="","",DATEDIF(C9,基礎情報!$B$8,"Y")) | E9: =IF(AA9="","",IF(AA9<=6,"該当","")) | F9: =IF(AA9="","",IF(AA9>=19,"該当","")) | H9: =給与所得!E2 -> 0 | J9: =年金所得!G3 -> 0 | L9: =MAX(SUM(H9,J9,K9),0)-IF(N9=1,MIN(H9,100000)+MIN(J9,100000)-100000,0) -> 0 | M9: =IF($G$6="加入する",MAX(0,$L$9-430000),0) -> 0 | N9: =IF(AND(H9>0,J9>0,H9+J9>100000),1,0) -> 0 | O9: =IF(D9<=64,IF(OR(G9>650000,I9>600000),1,""),IF(OR(G9>650000,I9>1100000),1,"")) | P9: =IFERROR(DATEDIF($C$9-1,P7,"Y"),"") | Q9: =IFERROR(DATEDIF($C$9-1,Q7,"Y"),"") | R9: =IFERROR(DATEDIF($C$9-1,R7,"Y"),"") | S9: =IFERROR(DATEDIF($C$9-1,S7,"Y"),"") | T9: =IFERROR(DATEDIF($C$9-1,T7,"Y"),"") | U9: =IFERROR(DATEDIF($C$9-1,U7,"Y"),"") | V9: =IFERROR(DATEDIF($C$9-1,V7,"Y"),"") | W9: =IFERROR(DATEDIF($C$9-1,W7,"Y"),"") | ... AA9: =IFERROR(DATEDIF($C$9-1,AA7,"Y"),"") | AB9: =IF($G$6="加入する",IF($AA9=75,COUNTIFS($P9:$AA9,"<75")+1,COUNTIFS($P9:$AA9,"<75"))) -> 0 | AC9: =IF($G$6="加入する",COUNTIFS($P$9:$AA$9,">=40",$P$9:$AA$9,"<=64"),0) -> 0 | AD9: =IF(F9="該当",IF($G$6="加入する",IF($AA9=75,COUNTIFS($P9:$AA9,"<75")+1,COUNTIFS($P9:$AA9,"<75"))),0) -> 0 | AE9: =ROUNDUP((M9*$G$25*AB9/12),0) -> 0 | AF9: =ROUNDUP($G$27*AB9/12,0) -> 0 | AG9: =ROUNDUP((M9*$H$25*AB9/12),0) -> 0 | AH9: =ROUNDUP($H$27*AB9/12,0) -> 0 | AI9: =ROUNDUP(M9*$I$25*AC9/12,0) -> 0 | AJ9: =ROUNDUP($I$27*AC9/12,0) -> 0 | AK9: =ROUNDUP((M9*$J$25*AB9/12),0) -> 0 | AL9: =ROUNDUP($J$27*AD9/12,0) -> 0
B10: 世帯員① | D10: =IF(C10="","",DATEDIF(C10,基礎情報!$B$8,"Y")) | E10: =IF(AA10="","",IF(AA10<=6,"該当","")) | F10: =IF(AA10="","",IF(AA10>=19,"該当","")) | H10: =給与所得!K2 -> 0 | J10: =年金所得!O3 -> 0 | L10: =MAX(SUM(H10,J10,K10),0)-IF(N10=1,MIN(H10,100000)+MIN(J10,100000)-100000,0) -> 0 | M10: =MAX(0,$L$10-430000) -> 0 | N10: =IF(AND(H10>0,J10>0,H10+J10>100000),1,0) -> 0 | O10: =IF(D10<=64,IF(OR(G10>650000,I10>600000),1,""),IF(OR(G10>650000,I10>1100000),1,"")) | P10: =IFERROR(DATEDIF($C$10-1,P7,"Y"),"") | Q10: =IFERROR(DATEDIF($C$10-1,Q7,"Y"),"") | R10: =IFERROR(DATEDIF($C$10-1,R7,"Y"),"") | S10: =IFERROR(DATEDIF($C$10-1,S7,"Y"),"") | T10: =IFERROR(DATEDIF($C$10-1,T7,"Y"),"") | U10: =IFERROR(DATEDIF($C$10-1,U7,"Y"),"") | V10: =IFERROR(DATEDIF($C$10-1,V7,"Y"),"") | W10: =IFERROR(DATEDIF($C$10-1,W7,"Y"),"") | ... AA10: =IFERROR(DATEDIF($C$10-1,AA7,"Y"),"") | AB10: =IF($AA10=75,COUNTIFS($P10:$AA10,"<75")+1,COUNTIFS($P10:$AA10,"<75")) -> 0 | AC10: =COUNTIFS($P$10:$AA$10,">=40",$P$10:$AA$10,"<=64") -> 0 | AD10: =IF(F10="該当",IF($AA10=75,COUNTIFS($P10:$AA10,"<75")+1,COUNTIFS($P10:$AA10,"<75")),0) -> 0 | AE10: =ROUNDUP((M10*$G$25*AB10/12),0) -> 0 | AF10: =ROUNDUP($G$27*AB10/12,0) -> 0 | AG10: =ROUNDUP((M10*$H$25*AB10/12),0) -> 0 | AH10: =ROUNDUP($H$27*AB10/12,0) -> 0 | AI10: =ROUNDUP(M10*$I$25*AC10/12,0) -> 0 | AJ10: =ROUNDUP($I$27*AC10/12,0) -> 0 | AK10: =ROUNDUP((M10*$J$25*AB10/12),0) -> 0 | AL10: =ROUNDUP($J$27*AD10/12,0) -> 0
B11: 世帯員② | D11: =IF(C11="","",DATEDIF(C11,基礎情報!$B$8,"Y")) | E11: =IF(AA11="","",IF(AA11<=6,"該当","")) | F11: =IF(AA11="","",IF(AA11>=19,"該当","")) | H11: =給与所得!Q2 -> 0 | J11: =年金所得!W3 -> 0 | L11: =MAX(SUM(H11,J11,K11),0)-IF(N11=1,MIN(H11,100000)+MIN(J11,100000)-100000,0) -> 0 | M11: =MAX(0,$L$11-430000) -> 0 | N11: =IF(AND(H11>0,J11>0,H11+J11>100000),1,0) -> 0 | O11: =IF(D11<=64,IF(OR(G11>650000,I11>600000),1,""),IF(OR(G11>650000,I11>1100000),1,"")) | P11: =IFERROR(DATEDIF($C$11-1,P7,"Y"),"") | Q11: =IFERROR(DATEDIF($C$11-1,Q7,"Y"),"") | R11: =IFERROR(DATEDIF($C$11-1,R7,"Y"),"") | S11: =IFERROR(DATEDIF($C$11-1,S7,"Y"),"") | T11: =IFERROR(DATEDIF($C$11-1,T7,"Y"),"") | U11: =IFERROR(DATEDIF($C$11-1,U7,"Y"),"") | V11: =IFERROR(DATEDIF($C$11-1,V7,"Y"),"") | W11: =IFERROR(DATEDIF($C$11-1,W7,"Y"),"") | ... AA11: =IFERROR(DATEDIF($C$11-1,AA7,"Y"),"") | AB11: =IF($AA11=75,COUNTIFS($P11:$AA11,"<75")+1,COUNTIFS($P11:$AA11,"<75")) -> 0 | AC11: =COUNTIFS($P$11:$AA$11,">=40",$P$11:$AA$11,"<=64") -> 0 | AD11: =IF(F11="該当",IF($AA11=75,COUNTIFS($P11:$AA11,"<75")+1,COUNTIFS($P11:$AA11,"<75")),0) -> 0 | AE11: =ROUNDUP((M11*$G$25*AB11/12),0) -> 0 | AF11: =ROUNDUP($G$27*AB11/12,0) -> 0 | AG11: =ROUNDUP((M11*$H$25*AB11/12),0) -> 0 | AH11: =ROUNDUP($H$27*AB11/12,0) -> 0 | AI11: =ROUNDUP(M11*$I$25*AC11/12,0) -> 0 | AJ11: =ROUNDUP($I$27*AC11/12,0) -> 0 | AK11: =ROUNDUP((M11*$J$25*AB11/12),0) -> 0 | AL11: =ROUNDUP($J$27*AD11/12,0) -> 0
B12: 世帯員③ | D12: =IF(C12="","",DATEDIF(C12,基礎情報!$B$8,"Y")) | E12: =IF(AA12="","",IF(AA12<=6,"該当","")) | F12: =IF(AA12="","",IF(AA12>=19,"該当","")) | H12: =給与所得!W2 -> 0 | J12: =年金所得!AE3 -> 0 | L12: =MAX(SUM(H12,J12,K12),0)-IF(N12=1,MIN(H12,100000)+MIN(J12,100000)-100000,0) -> 0 | M12: =MAX(0,$L$12-430000) -> 0 | N12: =IF(AND(H12>0,J12>0,H12+J12>100000),1,0) -> 0 | O12: =IF(D12<=64,IF(OR(G12>650000,I12>600000),1,""),IF(OR(G12>650000,I12>1100000),1,"")) | P12: =IFERROR(DATEDIF($C$12-1,P7,"Y"),"") | Q12: =IFERROR(DATEDIF($C$12-1,Q7,"Y"),"") | R12: =IFERROR(DATEDIF($C$12-1,R7,"Y"),"") | S12: =IFERROR(DATEDIF($C$12-1,S7,"Y"),"") | T12: =IFERROR(DATEDIF($C$12-1,T7,"Y"),"") | U12: =IFERROR(DATEDIF($C$12-1,U7,"Y"),"") | V12: =IFERROR(DATEDIF($C$12-1,V7,"Y"),"") | W12: =IFERROR(DATEDIF($C$12-1,W7,"Y"),"") | ... AA12: =IFERROR(DATEDIF($C$12-1,AA7,"Y"),"") | AB12: =IF($AA12=75,COUNTIFS($P12:$AA12,"<75")+1,COUNTIFS($P12:$AA12,"<75")) -> 0 | AC12: =COUNTIFS($P$12:$AA$12,">=40",$P$12:$AA$12,"<=64") -> 0 | AD12: =IF(F12="該当",IF($AA12=75,COUNTIFS($P12:$AA12,"<75")+1,COUNTIFS($P12:$AA12,"<75")),0) -> 0 | AE12: =ROUNDUP((M12*$G$25*AB12/12),0) -> 0 | AF12: =ROUNDUP($G$27*AB12/12,0) -> 0 | AG12: =ROUNDUP((M12*$H$25*AB12/12),0) -> 0 | AH12: =ROUNDUP($H$27*AB12/12,0) -> 0 | AI12: =ROUNDUP(M12*$I$25*AC12/12,0) -> 0 | AJ12: =ROUNDUP($I$27*AC12/12,0) -> 0 | AK12: =ROUNDUP((M12*$J$25*AB12/12),0) -> 0 | AL12: =ROUNDUP($J$27*AD12/12,0) -> 0
B13: 世帯員④ | D13: =IF(C13="","",DATEDIF(C13,基礎情報!$B$8,"Y")) | E13: =IF(AA13="","",IF(AA13<=6,"該当","")) | F13: =IF(AA13="","",IF(AA13>=19,"該当","")) | H13: =給与所得!E17 -> 0 | J13: =年金所得!AM3 -> 0 | L13: =MAX(SUM(H13,J13,K13),0)-IF(N13=1,MIN(H13,100000)+MIN(J13,100000)-100000,0) -> 0 | M13: =MAX(0,$L$13-430000) -> 0 | N13: =IF(AND(H13>0,J13>0,H13+J13>100000),1,0) -> 0 | O13: =IF(D13<=64,IF(OR(G13>650000,I13>600000),1,""),IF(OR(G13>650000,I13>1100000),1,"")) | P13: =IFERROR(DATEDIF($C$13-1,P7,"Y"),"") | Q13: =IFERROR(DATEDIF($C$13-1,Q7,"Y"),"") | R13: =IFERROR(DATEDIF($C$13-1,R7,"Y"),"") | S13: =IFERROR(DATEDIF($C$13-1,S7,"Y"),"") | T13: =IFERROR(DATEDIF($C$13-1,T7,"Y"),"") | U13: =IFERROR(DATEDIF($C$13-1,U7,"Y"),"") | V13: =IFERROR(DATEDIF($C$13-1,V7,"Y"),"") | W13: =IFERROR(DATEDIF($C$13-1,W7,"Y"),"") | ... AA13: =IFERROR(DATEDIF($C$13-1,AA7,"Y"),"") | AB13: =IF($AA13=75,COUNTIFS($P13:$AA13,"<75")+1,COUNTIFS($P13:$AA13,"<75")) -> 0 | AC13: =COUNTIFS($P$13:$AA$13,">=40",$P$13:$AA$13,"<=64") -> 0 | AD13: =IF(F13="該当",IF($AA13=75,COUNTIFS($P13:$AA13,"<75")+1,COUNTIFS($P13:$AA13,"<75")),0) -> 0 | AE13: =ROUNDUP((M13*$G$25*AB13/12),0) -> 0 | AF13: =ROUNDUP($G$27*AB13/12,0) -> 0 | AG13: =ROUNDUP((M13*$H$25*AB13/12),0) -> 0 | AH13: =ROUNDUP($H$27*AB13/12,0) -> 0 | AI13: =ROUNDUP(M13*$I$25*AC13/12,0) -> 0 | AJ13: =ROUNDUP($I$27*AC13/12,0) -> 0 | AK13: =ROUNDUP((M13*$J$25*AB13/12),0) -> 0 | AL13: =ROUNDUP($J$27*AD13/12,0) -> 0
B14: 世帯員⑤ | D14: =IF(C14="","",DATEDIF(C14,基礎情報!$B$8,"Y")) | E14: =IF(AA14="","",IF(AA14<=6,"該当","")) | F14: =IF(AA14="","",IF(AA14>=19,"該当","")) | H14: =給与所得!K17 -> 0 | J14: =年金所得!$AU$3 -> 0 | L14: =MAX(SUM(H14,J14,K14),0)-IF(N14=1,MIN(H14,100000)+MIN(J14,100000)-100000,0) -> 0 | M14: =MAX(0,$L$14-430000) -> 0 | N14: =IF(AND(H14>0,J14>0,H14+J14>100000),1,0) -> 0 | O14: =IF(D14<=64,IF(OR(G14>650000,I14>600000),1,""),IF(OR(G14>650000,I14>1100000),1,"")) | P14: =IFERROR(DATEDIF($C$14-1,P7,"Y"),"") | Q14: =IFERROR(DATEDIF($C$14-1,Q7,"Y"),"") | R14: =IFERROR(DATEDIF($C$14-1,R7,"Y"),"") | S14: =IFERROR(DATEDIF($C$14-1,S7,"Y"),"") | T14: =IFERROR(DATEDIF($C$14-1,T7,"Y"),"") | U14: =IFERROR(DATEDIF($C$14-1,U7,"Y"),"") | V14: =IFERROR(DATEDIF($C$14-1,V7,"Y"),"") | W14: =IFERROR(DATEDIF($C$14-1,W7,"Y"),"") | ... AA14: =IFERROR(DATEDIF($C$14-1,AA7,"Y"),"") | AB14: =IF($AA14=75,COUNTIFS($P14:$AA14,"<75")+1,COUNTIFS($P14:$AA14,"<75")) -> 0 | AC14: =COUNTIFS($P$14:$AA$14,">=40",$P$14:$AA$14,"<=64") -> 0 | AD14: =IF(F14="該当",IF($AA14=75,COUNTIFS($P14:$AA14,"<75")+1,COUNTIFS($P14:$AA14,"<75")),0) -> 0 | AE14: =ROUNDUP((M14*$G$25*AB14/12),0) -> 0 | AF14: =ROUNDUP($G$27*AB14/12,0) -> 0 | AG14: =ROUNDUP((M14*$H$25*AB14/12),0) -> 0 | AH14: =ROUNDUP($H$27*AB14/12,0) -> 0 | AI14: =ROUNDUP(M14*$I$25*AC14/12,0) -> 0 | AJ14: =ROUNDUP($I$27*AC14/12,0) -> 0 | AK14: =ROUNDUP((M14*$J$25*AB14/12),0) -> 0 | AL14: =ROUNDUP($J$27*AD14/12,0) -> 0
B15: 世帯員⑥ | D15: =IF(C15="","",DATEDIF(C15,基礎情報!$B$8,"Y")) | E15: =IF(AA15="","",IF(AA15<=6,"該当","")) | F15: =IF(AA15="","",IF(AA15>=19,"該当","")) | H15: =給与所得!Q17 -> 0 | J15: =年金所得!BC3 -> 0 | L15: =MAX(SUM(H15,J15,K15),0)-IF(N15=1,MIN(H15,100000)+MIN(J15,100000)-100000,0) -> 0 | M15: =MAX(0,$L$15-430000) -> 0 | N15: =IF(AND(H15>0,J15>0,H15+J15>100000),1,0) -> 0 | O15: =IF(D15<=64,IF(OR(G15>650000,I15>600000),1,""),IF(OR(G15>650000,I15>1100000),1,"")) | P15: =IFERROR(DATEDIF($C$15-1,P7,"Y"),"") | Q15: =IFERROR(DATEDIF($C$15-1,Q7,"Y"),"") | R15: =IFERROR(DATEDIF($C$15-1,R7,"Y"),"") | S15: =IFERROR(DATEDIF($C$15-1,S7,"Y"),"") | T15: =IFERROR(DATEDIF($C$15-1,T7,"Y"),"") | U15: =IFERROR(DATEDIF($C$15-1,U7,"Y"),"") | V15: =IFERROR(DATEDIF($C$15-1,V7,"Y"),"") | W15: =IFERROR(DATEDIF($C$15-1,W7,"Y"),"") | ... AA15: =IFERROR(DATEDIF($C$15-1,AA7,"Y"),"") | AB15: =IF($AA15=75,COUNTIFS($P15:$AA15,"<75")+1,COUNTIFS($P15:$AA15,"<75")) -> 0 | AC15: =COUNTIFS($P$15:$AA$15,">=40",$P$15:$AA$15,"<=64") -> 0 | AD15: =IF(F15="該当",IF($AA15=75,COUNTIFS($P15:$AA15,"<75")+1,COUNTIFS($P15:$AA15,"<75")),0) -> 0 | AE15: =ROUNDUP((M15*$G$25*AB15/12),0) -> 0 | AF15: =ROUNDUP($G$27*AB15/12,0) -> 0 | AG15: =ROUNDUP((M15*$H$25*AB15/12),0) -> 0 | AH15: =ROUNDUP($H$27*AB15/12,0) -> 0 | AI15: =ROUNDUP(M15*$I$25*AC15/12,0) -> 0 | AJ15: =ROUNDUP($I$27*AC15/12,0) -> 0 | AK15: =ROUNDUP((M15*$J$25*AB15/12),0) -> 0 | AL15: =ROUNDUP($J$27*AD15/12,0) -> 0
B16: 世帯員⑦ | D16: =IF(C16="","",DATEDIF(C16,基礎情報!$B$8,"Y")) | E16: =IF(AA16="","",IF(AA16<=6,"該当","")) | F16: =IF(AA16="","",IF(AA16>=19,"該当","")) | H16: =給与所得!W17 -> 0 | J16: =年金所得!BK3 -> 0 | L16: =MAX(SUM(H16,J16,K16),0)-IF(N16=1,MIN(H16,100000)+MIN(J16,100000)-100000,0) -> 0 | M16: =MAX(0,$L$16-430000) -> 0 | N16: =IF(AND(H16>0,J16>0,H16+J16>100000),1,0) -> 0 | O16: =IF(D16<=64,IF(OR(G16>650000,I16>600000),1,""),IF(OR(G16>650000,I16>1100000),1,"")) | P16: =IFERROR(DATEDIF($C$16-1,P7,"Y"),"") | Q16: =IFERROR(DATEDIF($C$16-1,Q7,"Y"),"") | R16: =IFERROR(DATEDIF($C$16-1,R7,"Y"),"") | S16: =IFERROR(DATEDIF($C$16-1,S7,"Y"),"") | T16: =IFERROR(DATEDIF($C$16-1,T7,"Y"),"") | U16: =IFERROR(DATEDIF($C$16-1,U7,"Y"),"") | V16: =IFERROR(DATEDIF($C$16-1,V7,"Y"),"") | W16: =IFERROR(DATEDIF($C$16-1,W7,"Y"),"") | ... AA16: =IFERROR(DATEDIF($C$16-1,AA7,"Y"),"") | AB16: =IF($AA16=75,COUNTIFS($P16:$AA16,"<75")+1,COUNTIFS($P16:$AA16,"<75")) -> 0 | AC16: =COUNTIFS($P$16:$AA$16,">=40",$P$16:$AA$16,"<=64") -> 0 | AD16: =IF(F16="該当",IF($AA16=75,COUNTIFS($P16:$AA16,"<75")+1,COUNTIFS($P16:$AA16,"<75")),0) -> 0 | AE16: =ROUNDUP((M16*$G$25*AB16/12),0) -> 0 | AF16: =ROUNDUP($G$27*AB16/12,0) -> 0 | AG16: =ROUNDUP((M16*$H$25*AB16/12),0) -> 0 | AH16: =ROUNDUP($H$27*AB16/12,0) -> 0 | AI16: =ROUNDUP(M16*$I$25*AC16/12,0) -> 0 | AJ16: =ROUNDUP($I$27*AC16/12,0) -> 0 | AK16: =ROUNDUP((M16*$J$25*AB16/12),0) -> 0 | AL16: =ROUNDUP($J$27*AD16/12,0) -> 0
B18: 保険税計算結果
B20: =基礎情報!A1 -> 46023 | C20: の保険税は、 | E20: =IF($C$9="","",SUM(G42:J42)) | J20: となる見込みです。
E21: =IFERROR(ROUNDUP($E$20/12,0),"")
B23: 内訳 | G23: 基礎分 | H23: 後期高齢者 支援金等分 | I23: 介護納付金分 | J23: 子ども・子育て 支援納付金分
B24: ① 所得割算定基礎額（所得割標準額の合計） | G24: =SUM($M$9:$M$16) -> 0 | H24: =SUM($M$9:$M$16) -> 0 | I24: =SUMIFS($M$9:$M$16,AC9:AC16,">0") -> 0 | J24: =SUM($M$9:$M$16) -> 0
B25: ② 所得割税率 | G25: =基礎情報!$B$3 -> 0.0845 | H25: =基礎情報!$C$3 -> 0.029 | I25: =基礎情報!$D$3 -> 0.025 | J25: =基礎情報!$E$3 -> 0.0025
B26: ③ 所得割額 … ①×② | G26: =ROUNDDOWN(SUM($AE$9:$AE$16),0) -> 0 | H26: =ROUNDDOWN(SUM($AG$9:$AG$16),0) -> 0 | I26: =ROUNDDOWN(SUM($AI$9:$AI$16),0) -> 0 | J26: =ROUNDDOWN(SUM($AK$9:$AK$16),0) -> 0
B27: ④ 均等割額 | G27: =基礎情報!$B$4 -> 37000 | H27: =基礎情報!$C$4 -> 12000 | I27: =基礎情報!$D$4 -> 13000 | J27: =基礎情報!$E$4 -> 1100
B28: ⑤ 対象被保険者数 | G28: =COUNTIFS($AB$9:$AB$16,">0") -> 0 | H28: =COUNTIFS($AB$9:$AB$16,">0") -> 0 | I28: =COUNTIFS($AC$9:$AC$16,">0") -> 0 | J28: =COUNTIFS($AD$9:$AD$16,">0") -> 0
B29: ⑥ 均等割額 … ④×⑤ | G29: =ROUNDUP(SUM($AF$9:$AF$16),0) -> 0 | H29: =ROUNDUP(SUM($AH$9:$AH$16),0) -> 0 | I29: =ROUNDUP(SUM($AJ$9:$AJ$16),0) -> 0 | J29: =ROUNDUP(SUM($AL$9:$AL$16),0) -> 0
B30: ⑦ 平等割額 | G30: =基礎情報!$B$5 -> 23000 | H30: =基礎情報!$C$5 -> 7000 | I30: =基礎情報!$D$5*MAX($AC$9:$AC$16)/12 -> 0 | J30: =基礎情報!$E$5 -> 800
B31: ⑧ 算出合計額 … ③＋⑥＋⑦ | G31: =SUM($G$26,$G$29,$G$30) -> 23000 | H31: =SUM($H$26,$H$29,$H$30) -> 7000 | I31: =SUM($I$26,$I$29,$I$30) -> 0 | J31: =SUM($J$26,$J$29,$J$30) -> 800
B32: 軽減 | C32: 軽減判定所得金額 | G32: =$L$9-IF($D$9>=65,MIN($J$9,150000),0) +$L$10-IF($D$10>=65,MIN($J$10,150000),0) +$L$11-IF($D$11>=65,MIN($J$11,150000),0) +$L$12-IF($D$12>=65,MIN($J$12,150000),0) +$L$13-IF($D$13>=65,MIN($J$13,150000),0) +$L$14-IF($D$14>=65,MIN($J$14,150000),0) +$L$15-IF($D$15>=65,MIN($J$15,150000),0) +$L$16-IF($D$16>=65,MIN($J$16,150000),0) -> 0 | H32: =$L$9-IF($D$9>=65,MIN($J$9,150000),0) +$L$10-IF($D$10>=65,MIN($J$10,150000),0) +$L$11-IF($D$11>=65,MIN($J$11,150000),0) +$L$12-IF($D$12>=65,MIN($J$12,150000),0) +$L$13-IF($D$13>=65,MIN($J$13,150000),0) +$L$14-IF($D$14>=65,MIN($J$14,150000),0) +$L$15-IF($D$15>=65,MIN($J$15,150000),0) +$L$16-IF($D$16>=65,MIN($J$16,150000),0) -> 0 | I32: =$L$9-IF($D$9>=65,MIN($J$9,150000),0) +$L$10-IF($D$10>=65,MIN($J$10,150000),0) +$L$11-IF($D$11>=65,MIN($J$11,150000),0) +$L$12-IF($D$12>=65,MIN($J$12,150000),0) +$L$13-IF($D$13>=65,MIN($J$13,150000),0) +$L$14-IF($D$14>=65,MIN($J$14,150000),0) +$L$15-IF($D$15>=65,MIN($J$15,150000),0) +$L$16-IF($D$16>=65,MIN($J$16,150000),0) -> 0 | J32: =$L$9-IF($D$9>=65,MIN($J$9,150000),0) +$L$10-IF($D$10>=65,MIN($J$10,150000),0) +$L$11-IF($D$11>=65,MIN($J$11,150000),0) +$L$12-IF($D$12>=65,MIN($J$12,150000),0) +$L$13-IF($D$13>=65,MIN($J$13,150000),0) +$L$14-IF($D$14>=65,MIN($J$14,150000),0) +$L$15-IF($D$15>=65,MIN($J$15,150000),0) +$L$16-IF($D$16>=65,MIN($J$16,150000),0) -> 0
C33: 給与所得者等の数 | G33: =SUM($O$9:$O$16) -> 0 | H33: =SUM($O$9:$O$16) -> 0 | I33: =SUM($O$9:$O$16) -> 0 | J33: =SUM($O$9:$O$16) -> 0
C34: 加入者数 | G34: =IF($G$6="加入する",1,0)+COUNTIFS($AB$10:$AB$16,">0") -> 1 | H34: =IF($G$6="加入する",1,0)+COUNTIFS($AB$10:$AB$16,">0") -> 1 | I34: =IF($G$6="加入する",IF($AJ$9>0,1,0),0)+COUNTIFS($AJ$10:$AJ$16,">0") -> 0 | J34: =IF($G$6="加入する",1,0)+COUNTIFS($AD$10:$AD$16,">0") -> 1
C35: 未就学児人数 | G35: =COUNTIF($E$9:$E$16,"該当") -> 0 | H35: =COUNTIF($E$9:$E$16,"該当") -> 0
C36: 所得軽減割合 | G36: =IF($G$28=0,0,VLOOKUP($G$32,軽減判定!$C$4:$F$7,4,TRUE)) -> 0 | H36: =IF($H$28=0,0,VLOOKUP($H$32,軽減判定!$C$4:$F$7,4,TRUE)) -> 0 | I36: =IF($I$28=0,0,VLOOKUP($I$32,軽減判定!$C$4:$F$7,4,TRUE)) -> 0 | J36: =IF($J$28=0,0,VLOOKUP($J$32,軽減判定!$C$4:$F$7,4,TRUE)) -> 0
C37: ⑨ 軽減均等割額 | G37: =ROUNDUP(($G$29*G36)+($G$27*(1-$G$36)*$G$35/2),0) -> 0 | H37: =ROUNDUP(($H$29*$H$36)+$H$27*(1-$H$36)*H35/2,0) -> 0 | I37: =ROUNDUP($I$29*$I$36,0) -> 0 | J37: =ROUNDUP(($J$29*$J$36),0) -> 0
C38: ⑩ 軽減平等割額 | G38: =ROUNDUP($G$30*$G$36,0) -> 0 | H38: =ROUNDUP($H$30*$H$36,0) -> 0 | I38: =ROUNDUP($I$30*$I$36,0) -> 0 | J38: =ROUNDUP($J$30*$J$36,0) -> 0
B39: ⑪ 軽減後算出額 …⑧－⑨－⑩ | G39: =$G$31-$G$37-$G$38 -> 23000 | H39: =$H$31-$H$37-$H$38 -> 7000 | I39: =($I$31-$I$37-$I$38) -> 0 | J39: =$J$31-$J$37-$J$38 -> 800
B40: 限度額 | G40: =基礎情報!$B$6 -> 670000 | H40: =基礎情報!$C$6 -> 260000 | I40: =基礎情報!$D$6 -> 170000 | J40: =基礎情報!$E$6 -> 30000
B41: ⑫ 限度超過額 | G41: =MAX($G$39-$G$40,0) -> 0 | H41: =MAX($H$39-$H$40,0) -> 0 | I41: =MAX($I$39-$I$40,0) -> 0 | J41: =MAX($J$39-$J$40,0) -> 0
B42: ⑬ 年間保険税額…⑪-⑫ | G42: =IF($C$9="","",ROUNDDOWN($G$39-$G$41,-2)) | H42: =IF($C$9="","",ROUNDDOWN($H$39-$H$41,-2)) | I42: =IF($C$9="","",ROUNDDOWN($I$39-$I$41,-2)) | J42: =IF($C$9="","",ROUNDDOWN($J$39-$J$41,-2))

Sheet 基礎情報
A1: 46023 | C1: 税率・税額
A2: 区分 | B2: 医療分 | C2: 後期分 | D2: 介護分 | E2: 子ども・子育て支援
A3: 所得割率 | B3: 0.0845 | C3: 0.029 | D3: 0.025 | E3: 0.0025
A4: 均等割額 | B4: 37000 | C4: 12000 | D4: 13000 | E4: 1100
A5: 平等割額 | B5: 23000 | C5: 7000 | D5: 7000 | E5: 800
A6: 賦課限度額 | B6: 670000 | C6: 260000 | D6: 170000 | E6: 30000
A8: 年齢判定基準日 | B8: =A1 -> 46023
A9: 未就学・子子判定 | B9: 46113
A11: 軽減判定基準 一覧
A12: 給与所得者等の数 （擬主・特定同一世帯所属者含む） | C12: 1 | D12: 2 | E12: 3 | F12: 4 | G12: 5 | H12: 6 | I12: 7 | J12: 8
A13: 7割軽減 | B13: - | C13: =430000+(C12-1)*100000 -> 430000 | D13: =430000+(D12-1)*100000 -> 530000 | E13: =430000+(E12-1)*100000 -> 630000 | F13: =430000+(F12-1)*100000 -> 730000 | G13: =430000+(G12-1)*100000 -> 830000 | H13: =430000+(H12-1)*100000 -> 930000 | I13: =430000+(I12-1)*100000 -> 1030000 | J13: =430000+(J12-1)*100000 -> 1130000
A14: 5割軽減 | B14: 1 | C14: =430000+($C$12-1)*100000+($A$15*B14) -> 740000 | D14: =430000+($D$12-1)*100000+($A$15*B14) -> 840000 | E14: - | F14: - | G14: - | H14: - | I14: - | J14: -
A15: 310000 | B15: 2 | C15: =430000+($C$12-1)*100000+($A$15*B15) -> 1050000 | D15: =430000+($D$12-1)*100000+($A$15*B15) -> 1150000 | E15: =430000+($E$12-1)*100000+($A$15*B15) -> 1250000 | F15: - | G15: - | H15: - | I15: - | J15: -
A16: ※擬主は人数に含まない | B16: 3 | C16: =430000+($C$12-1)*100000+($A$15*B16) -> 1360000 | D16: =430000+($D$12-1)*100000+($A$15*B16) -> 1460000 | E16: =430000+($E$12-1)*100000+($A$15*B16) -> 1560000 | F16: =430000+($F$12-1)*100000+($A$15*B16) -> 1660000 | G16: - | H16: - | I16: - | J16: -
B17: 4 | C17: =430000+($C$12-1)*100000+($A$15*B17) -> 1670000 | D17: =430000+($D$12-1)*100000+($A$15*B17) -> 1770000 | E17: =430000+($E$12-1)*100000+($A$15*B17) -> 1870000 | F17: =430000+($F$12-1)*100000+($A$15*B17) -> 1970000 | G17: =430000+($G$12-1)*100000+($A$15*B17) -> 2070000 | H17: - | I17: - | J17: -
B18: 5 | C18: =430000+($C$12-1)*100000+($A$15*B18) -> 1980000 | D18: =430000+($D$12-1)*100000+($A$15*B18) -> 2080000 | E18: =430000+($E$12-1)*100000+($A$15*B18) -> 2180000 | F18: =430000+($F$12-1)*100000+($A$15*B18) -> 2280000 | G18: =430000+($G$12-1)*100000+($A$15*B18) -> 2380000 | H18: =430000+($H$12-1)*100000+($A$15*B18) -> 2480000 | I18: - | J18: -
B19: 6 | C19: =430000+($C$12-1)*100000+($A$15*B19) -> 2290000 | D19: =430000+($D$12-1)*100000+($A$15*B19) -> 2390000 | E19: =430000+($E$12-1)*100000+($A$15*B19) -> 2490000 | F19: =430000+($F$12-1)*100000+($A$15*B19) -> 2590000 | G19: =430000+($G$12-1)*100000+($A$15*B19) -> 2690000 | H19: =430000+($H$12-1)*100000+($A$15*B19) -> 2790000 | I19: =430000+($I$12-1)*100000+($A$15*B19) -> 2890000 | J19: -
B20: 7 | C20: =430000+($C$12-1)*100000+($A$15*B20) -> 2600000 | D20: =430000+($D$12-1)*100000+($A$15*B20) -> 2700000 | E20: =430000+($E$12-1)*100000+($A$15*B20) -> 2800000 | F20: =430000+($F$12-1)*100000+($A$15*B20) -> 2900000 | G20: =430000+($G$12-1)*100000+($A$15*B20) -> 3000000 | H20: =430000+($H$12-1)*100000+($A$15*B20) -> 3100000 | I20: =430000+($I$12-1)*100000+($A$15*B20) -> 3200000 | J20: =430000+($J$12-1)*100000+($A$15*B20) -> 3300000
B21: 8 | C21: =430000+($C$12-1)*100000+($A$15*B21) -> 2910000 | D21: =430000+($D$12-1)*100000+($A$15*B21) -> 3010000 | E21: =430000+($E$12-1)*100000+($A$15*B21) -> 3110000 | F21: =430000+($F$12-1)*100000+($A$15*B21) -> 3210000 | G21: =430000+($G$12-1)*100000+($A$15*B21) -> 3310000 | H21: =430000+($H$12-1)*100000+($A$15*B21) -> 3410000 | I21: =430000+($I$12-1)*100000+($A$15*B21) -> 3510000 | J21: =430000+($J$12-1)*100000+($A$15*B21) -> 3610000
A22: 2割軽減 | B22: 1 | C22: =430000+($C$12-1)*100000+($A$23*B22) -> 1000000 | D22: =430000+($D$12-1)*100000+($A$23*B22) -> 1100000 | E22: - | F22: - | G22: - | H22: - | I22: - | J22: -
A23: 570000 | B23: 2 | C23: =430000+($C$12-1)*100000+($A$23*B23) -> 1570000 | D23: =430000+($D$12-1)*100000+($A$23*B23) -> 1670000 | E23: =430000+($E$12-1)*100000+($A$23*B23) -> 1770000 | F23: - | G23: - | H23: - | I23: - | J23: -
A24: ※擬主は人数に含まない | B24: 3 | C24: =430000+($C$12-1)*100000+($A$23*B24) -> 2140000 | D24: =430000+($D$12-1)*100000+($A$23*B24) -> 2240000 | E24: =430000+($E$12-1)*100000+($A$23*B24) -> 2340000 | F24: =430000+($F$12-1)*100000+($A$23*B24) -> 2440000 | G24: - | H24: - | I24: - | J24: -
B25: 4 | C25: =430000+($C$12-1)*100000+($A$23*B25) -> 2710000 | D25: =430000+($D$12-1)*100000+($A$23*B25) -> 2810000 | E25: =430000+($E$12-1)*100000+($A$23*B25) -> 2910000 | F25: =430000+($F$12-1)*100000+($A$23*B25) -> 3010000 | G25: =430000+($G$12-1)*100000+($A$23*B25) -> 3110000 | H25: - | I25: - | J25: -
B26: 5 | C26: =430000+($C$12-1)*100000+($A$23*B26) -> 3280000 | D26: =430000+($D$12-1)*100000+($A$23*B26) -> 3380000 | E26: =430000+($E$12-1)*100000+($A$23*B26) -> 3480000 | F26: =430000+($F$12-1)*100000+($A$23*B26) -> 3580000 | G26: =430000+($G$12-1)*100000+($A$23*B26) -> 3680000 | H26: =430000+($H$12-1)*100000+($A$23*B26) -> 3780000 | I26: - | J26: -
B27: 6 | C27: =430000+($C$12-1)*100000+($A$23*B27) -> 3850000 | D27: =430000+($D$12-1)*100000+($A$23*B27) -> 3950000 | E27: =430000+($E$12-1)*100000+($A$23*B27) -> 4050000 | F27: =430000+($F$12-1)*100000+($A$23*B27) -> 4150000 | G27: =430000+($G$12-1)*100000+($A$23*B27) -> 4250000 | H27: =430000+($H$12-1)*100000+($A$23*B27) -> 4350000 | I27: =430000+($I$12-1)*100000+($A$23*B27) -> 4450000 | J27: -
B28: 7 | C28: =430000+($C$12-1)*100000+($A$23*B28) -> 4420000 | D28: =430000+($D$12-1)*100000+($A$23*B28) -> 4520000 | E28: =430000+($E$12-1)*100000+($A$23*B28) -> 4620000 | F28: =430000+($F$12-1)*100000+($A$23*B28) -> 4720000 | G28: =430000+($G$12-1)*100000+($A$23*B28) -> 4820000 | H28: =430000+($H$12-1)*100000+($A$23*B28) -> 4920000 | I28: =430000+($I$12-1)*100000+($A$23*B28) -> 5020000 | J28: =430000+($J$12-1)*100000+($A$23*B28) -> 5120000
B29: 8 | C29: =430000+($C$12-1)*100000+($A$23*B29) -> 4990000 | D29: =430000+($D$12-1)*100000+($A$23*B29) -> 5090000 | E29: =430000+($E$12-1)*100000+($A$23*B29) -> 5190000 | F29: =430000+($F$12-1)*100000+($A$23*B29) -> 5290000 | G29: =430000+($G$12-1)*100000+($A$23*B29) -> 5390000 | H29: =430000+($H$12-1)*100000+($A$23*B29) -> 5490000 | I29: =430000+($I$12-1)*100000+($A$23*B29) -> 5590000 | J29: =430000+($J$12-1)*100000+($A$23*B29) -> 5690000

Sheet 軽減判定
A1: 給与所得者等人数 | B1: =【令和8年度】大崎上島町国民健康保険税試算!G33 -> 0 | C1: 加入者数 | D1: =【令和8年度】大崎上島町国民健康保険税試算!$G$34 -> 1
A3: 基準額 | B3: 加除額 | C3: 軽減判定額 | F3: 軽減割合
A4: =基礎情報!$C$13 -> 430000 | B4: 0 | C4: 0 | D4: ～ | E4: =$A$4 -> 430000 | F4: 0.7
B5: =基礎情報!$A$15 -> 310000 | C5: =E4+1 -> 430001 | E5: =A4+((MAX(($B$1-1),0)*100000)+($B$5*$D$1)) -> 740000 | F5: 0.5
B6: =基礎情報!$A$23 -> 570000 | C6: =E5+1 -> 740001 | E6: =$A$4+((MAX(($B$1-1),0)*100000+($B$6*$D$1))) -> 1000000 | F6: 0.2
B7: - | C7: =E6+1 -> 1000001 | E7: 99999999 | F7: 0

Sheet 給与所得
A1: 世帯主 | D1: 給与収入： | E1: =【令和8年度】大崎上島町国民健康保険税試算!G9 -> 0 | G1: 世帯員① | J1: 給与収入： | K1: =【令和8年度】大崎上島町国民健康保険税試算!G10 -> 0 | M1: 世帯員② | P1: 給与収入： | Q1: =【令和8年度】大崎上島町国民健康保険税試算!G11 -> 0 | S1: 世帯員③ | V1: 給与収入： | W1: =【令和8年度】大崎上島町国民健康保険税試算!G12 -> 0
D2: 給与所得： | E2: =MAX(E4:E14) -> 0 | J2: 給与所得： | K2: =MAX(K4:K14) -> 0 | P2: 給与所得： | Q2: =MAX(Q4:Q14) -> 0 | V2: 給与所得： | W2: =MAX(W4:W14) -> 0
A3: 給与収入額 | D3: 判定 | E3: 給与所得 | G3: 給与収入額 | J3: 判定 | K3: 給与所得 | M3: 給与収入額 | P3: 判定 | Q3: 給与所得 | S3: 給与収入額 | V3: 判定 | W3: 給与所得
A4: 0 | B4: ～ | C4: 649999 | D4: =IF(E1<=C4,"○","") -> ○ | E4: =IF(D4="○",0,"") -> 0 | G4: 0 | H4: ～ | I4: 649999 | J4: =IF(K1<=I4,"○","") -> ○ | K4: =IF(J4="○",0,"") -> 0 | M4: 0 | N4: ～ | O4: 649999 | P4: =IF(Q1<=O4,"○","") -> ○ | Q4: =IF(P4="○",0,"") -> 0 | S4: 0 | T4: ～ | U4: 649999 | V4: =IF(W1<=U4,"○","") -> ○ | W4: =IF(V4="○",0,"") -> 0
A5: =C4+1 -> 650000 | B5: ～ | C5: 1618999 | D5: =IF(AND(A5<=E1,E1<=C5),"○","") | E5: =IF(D5="○",$E$1-650000,"") | G5: =I4+1 -> 650000 | H5: ～ | I5: 1618999 | J5: =IF(AND(G5<=K1,K1<=I5),"○","") | K5: =IF(J5="○",$K$1-650000,"") | M5: =O4+1 -> 650000 | N5: ～ | O5: 1618999 | P5: =IF(AND(M5<=Q1,Q1<=O5),"○","") | Q5: =IF(P5="○",$Q$1-650000,"") | S5: =U4+1 -> 650000 | T5: ～ | U5: 1618999 | V5: =IF(AND(S5<=W1,W1<=U5),"○","") | W5: =IF(V5="○",$W$1-650000,"")
A6: =C5+1 -> 1619000 | B6: ～ | C6: 1619999 | D6: =IF(AND(A6<=E1,E1<=C6),"○","") | E6: =IF(D6="○",$E$1-650000,"") | G6: =I5+1 -> 1619000 | H6: ～ | I6: 1619999 | J6: =IF(AND(G6<=K1,K1<=I6),"○","") | K6: =IF(J6="○",$K$1-650000,"") | M6: =O5+1 -> 1619000 | N6: ～ | O6: 1619999 | P6: =IF(AND(M6<=Q1,Q1<=O6),"○","") | Q6: =IF(P6="○",$Q$1-650000,"") | S6: =U5+1 -> 1619000 | T6: ～ | U6: 1619999 | V6: =IF(AND(S6<=W1,W1<=U6),"○","") | W6: =IF(V6="○",$W$1-650000,"")
A7: =C6+1 -> 1620000 | B7: ～ | C7: 1621999 | D7: =IF(AND(A7<=E1,E1<=C7),"○","") | E7: =IF(D7="○",$E$1-650000,"") | G7: =I6+1 -> 1620000 | H7: ～ | I7: 1621999 | J7: =IF(AND(G7<=K1,K1<=I7),"○","") | K7: =IF(J7="○",$K$1-650000,"") | M7: =O6+1 -> 1620000 | N7: ～ | O7: 1621999 | P7: =IF(AND(M7<=Q1,Q1<=O7),"○","") | Q7: =IF(P7="○",$Q$1-650000,"") | S7: =U6+1 -> 1620000 | T7: ～ | U7: 1621999 | V7: =IF(AND(S7<=W1,W1<=U7),"○","") | W7: =IF(V7="○",$W$1-650000,"")
A8: =C7+1 -> 1622000 | B8: ～ | C8: 1623999 | D8: =IF(AND(A8<=E1,E1<=C8),"○","") | E8: =IF(D8="○",$E$1-650000,"") | G8: =I7+1 -> 1622000 | H8: ～ | I8: 1623999 | J8: =IF(AND(G8<=K1,K1<=I8),"○","") | K8: =IF(J8="○",$K$1-650000,"") | M8: =O7+1 -> 1622000 | N8: ～ | O8: 1623999 | P8: =IF(AND(M8<=Q1,Q1<=O8),"○","") | Q8: =IF(P8="○",$Q$1-650000,"") | S8: =U7+1 -> 1622000 | T8: ～ | U8: 1623999 | V8: =IF(AND(S8<=W1,W1<=U8),"○","") | W8: =IF(V8="○",$W$1-650000,"")
A9: =C8+1 -> 1624000 | B9: ～ | C9: 1627999 | D9: =IF(AND(A9<=E1,E1<=C9),"○","") | E9: =IF(D9="○",$E$1-650000,"") | G9: =I8+1 -> 1624000 | H9: ～ | I9: 1627999 | J9: =IF(AND(G9<=K1,K1<=I9),"○","") | K9: =IF(J9="○",$K$1-650000,"") | M9: =O8+1 -> 1624000 | N9: ～ | O9: 1627999 | P9: =IF(AND(M9<=Q1,Q1<=O9),"○","") | Q9: =IF(P9="○",$Q$1-650000,"") | S9: =U8+1 -> 1624000 | T9: ～ | U9: 1627999 | V9: =IF(AND(S9<=W1,W1<=U9),"○","") | W9: =IF(V9="○",$W$1-650000,"")
A10: =C9+1 -> 1628000 | B10: ～ | C10: 1899999 | D10: =IF(AND(A10<=E1,E1<=C10),"○","") | E10: =IF(D10="○",$E$1-650000,"") | G10: =I9+1 -> 1628000 | H10: ～ | I10: 1899999 | J10: =IF(AND(G10<=K1,K1<=I10),"○","") | K10: =IF(J10="○",$K$1-650000,"") | M10: =O9+1 -> 1628000 | N10: ～ | O10: 1899999 | P10: =IF(AND(M10<=Q1,Q1<=O10),"○","") | Q10: =IF(P10="○",$Q$1-650000,"") | S10: =U9+1 -> 1628000 | T10: ～ | U10: 1899999 | V10: =IF(AND(S10<=W1,W1<=U10),"○","") | W10: =IF(V10="○",$W$1-650000,"")
A11: =C10+1 -> 1900000 | B11: ～ | C11: 3599999 | D11: =IF(AND(A11<=E1,E1<=C11),"○","") | E11: =IF(D11="○",ROUNDDOWN(E1/4,-3)*2.8-80000,"") | G11: =I10+1 -> 1900000 | H11: ～ | I11: 3599999 | J11: =IF(AND(G11<=K1,K1<=I11),"○","") | K11: =IF(J11="○",ROUNDDOWN(K1/4,-3)*2.8-80000,"") | M11: =O10+1 -> 1900000 | N11: ～ | O11: 3599999 | P11: =IF(AND(M11<=Q1,Q1<=O11),"○","") | Q11: =IF(P11="○",ROUNDDOWN($Q$1/4,-3)*2.8-80000,"") | S11: =U10+1 -> 1900000 | T11: ～ | U11: 3599999 | V11: =IF(AND(S11<=W1,W1<=U11),"○","") | W11: =IF(V11="○",ROUNDDOWN(W1/4,-3)*2.8-80000,"")
A12: =C11+1 -> 3600000 | B12: ～ | C12: 6599999 | D12: =IF(AND(A12<=E1,E1<=C12),"○","") | E12: =IF(D12="○",ROUNDDOWN(E1/4,-3)*3.2-440000,"") | G12: =I11+1 -> 3600000 | H12: ～ | I12: 6599999 | J12: =IF(AND(G12<=K1,K1<=I12),"○","") | K12: =IF(J12="○",ROUNDDOWN(K1/4,-3)*3.2-440000,"") | M12: =O11+1 -> 3600000 | N12: ～ | O12: 6599999 | P12: =IF(AND(M12<=Q1,Q1<=O12),"○","") | Q12: =IF(P12="○",ROUNDDOWN($Q$1/4,-3)*2.8-80000,"") | S12: =U11+1 -> 3600000 | T12: ～ | U12: 6599999 | V12: =IF(AND(S12<=W1,W1<=U12),"○","") | W12: =IF(V12="○",ROUNDDOWN(W1/4,-3)*3.2-440000,"")
A13: =C12+1 -> 6600000 | B13: ～ | C13: 8500000 | D13: =IF(AND(A13<=E1,E1<=C13),"○","") | E13: =IF(D13="○",E1*0.9-1100000,"") | G13: =I12+1 -> 6600000 | H13: ～ | I13: 8500000 | J13: =IF(AND(G13<=K1,K1<=I13),"○","") | K13: =IF(J13="○",K1*0.9-1100000,"") | M13: =O12+1 -> 6600000 | N13: ～ | O13: 8500000 | P13: =IF(AND(M13<=Q1,Q1<=O13),"○","") | Q13: =IF(P13="○",ROUNDDOWN($Q$1/4,-3)*2.8-80000,"") | S13: =U12+1 -> 6600000 | T13: ～ | U13: 8500000 | V13: =IF(AND(S13<=W1,W1<=U13),"○","") | W13: =IF(V13="○",W1*0.9-1100000,"")
A14: =C13+1 -> 8500001 | B14: ～ | C14: 999999999 | D14: =IF(AND(A14<=E1,E1<=C14),"○","") | E14: =IF(D14="○",E1-1950000,"") | G14: =I13+1 -> 8500001 | H14: ～ | I14: 999999999 | J14: =IF(AND(G14<=K1,K1<=I14),"○","") | K14: =IF(J14="○",K1-1950000,"") | M14: =O13+1 -> 8500001 | N14: ～ | O14: 999999999 | P14: =IF(AND(M14<=Q1,Q1<=O14),"○","") | Q14: =IF(P14="○",ROUNDDOWN($Q$1/4,-3)*2.8-80000,"") | S14: =U13+1 -> 8500001 | T14: ～ | U14: 999999999 | V14: =IF(AND(S14<=W1,W1<=U14),"○","") | W14: =IF(V14="○",W1-1950000,"")
A16: 世帯員④ | D16: 給与収入： | E16: =【令和8年度】大崎上島町国民健康保険税試算!G13 -> 0 | G16: 世帯員⑤ | J16: 給与収入： | K16: =【令和8年度】大崎上島町国民健康保険税試算!G14 -> 0 | M16: 世帯員⑥ | P16: 給与収入： | Q16: =【令和8年度】大崎上島町国民健康保険税試算!G15 -> 0 | S16: 世帯員⑦ | V16: 給与収入： | W16: =【令和8年度】大崎上島町国民健康保険税試算!G16 -> 0
D17: 給与所得： | E17: =MAX(E19:E29) -> 0 | J17: 給与所得： | K17: =MAX(K19:K29) -> 0 | P17: 給与所得： | Q17: =MAX(Q19:Q29) -> 0 | V17: 給与所得： | W17: =MAX(W19:W29) -> 0
A18: 給与収入額 | D18: 判定 | E18: 給与所得 | G18: 給与収入額 | J18: 判定 | K18: 給与所得 | M18: 給与収入額 | P18: 判定 | Q18: 給与所得 | S18: 給与収入額 | V18: 判定 | W18: 給与所得
A19: 0 | B19: ～ | C19: 649999 | D19: =IF(E16<=C19,"○","") -> ○ | E19: =IF(D19="○",0,"") -> 0 | G19: 0 | H19: ～ | I19: 649999 | J19: =IF(K16<=I19,"○","") -> ○ | K19: =IF(J19="○",0,"") -> 0 | M19: 0 | N19: ～ | O19: 649999 | P19: =IF(Q16<=O19,"○","") -> ○ | Q19: =IF(P19="○",0,"") -> 0 | S19: 0 | T19: ～ | U19: 649999 | V19: =IF(W16<=U19,"○","") -> ○ | W19: =IF(V19="○",0,"") -> 0
A20: =C19+1 -> 650000 | B20: ～ | C20: 1618999 | D20: =IF(AND(A20<=E16,E16<=C20),"○","") | E20: =IF(D20="○",$E$16-650000,"") | G20: =I19+1 -> 650000 | H20: ～ | I20: 1618999 | J20: =IF(AND(G20<=K16,K16<=I20),"○","") | K20: =IF(J20="○",$K$16-650000,"") | M20: =O19+1 -> 650000 | N20: ～ | O20: 1618999 | P20: =IF(AND(M20<=Q16,Q16<=O20),"○","") | Q20: =IF(P20="○",$Q$16-650000,"") | S20: =U19+1 -> 650000 | T20: ～ | U20: 1618999 | V20: =IF(AND(S20<=W16,W16<=U20),"○","") | W20: =IF(V20="○",$W$16-650000,"")
A21: =C20+1 -> 1619000 | B21: ～ | C21: 1619999 | D21: =IF(AND(A21<=E16,E16<=C21),"○","") | E21: =IF(D21="○",$E$16-650000,"") | G21: =I20+1 -> 1619000 | H21: ～ | I21: 1619999 | J21: =IF(AND(G21<=K16,K16<=I21),"○","") | K21: =IF(J21="○",$K$16-650000,"") | M21: =O20+1 -> 1619000 | N21: ～ | O21: 1619999 | P21: =IF(AND(M21<=Q16,Q16<=O21),"○","") | Q21: =IF(P21="○",$Q$16-650000,"") | S21: =U20+1 -> 1619000 | T21: ～ | U21: 1619999 | V21: =IF(AND(S21<=W16,W16<=U21),"○","") | W21: =IF(V21="○",$W$16-650000,"")
A22: =C21+1 -> 1620000 | B22: ～ | C22: 1621999 | D22: =IF(AND(A22<=E16,E16<=C22),"○","") | E22: =IF(D22="○",$E$16-650000,"") | G22: =I21+1 -> 1620000 | H22: ～ | I22: 1621999 | J22: =IF(AND(G22<=K16,K16<=I22),"○","") | K22: =IF(J22="○",$K$16-650000,"") | M22: =O21+1 -> 1620000 | N22: ～ | O22: 1621999 | P22: =IF(AND(M22<=Q16,Q16<=O22),"○","") | Q22: =IF(P22="○",$Q$16-650000,"") | S22: =U21+1 -> 1620000 | T22: ～ | U22: 1621999 | V22: =IF(AND(S22<=W16,W16<=U22),"○","") | W22: =IF(V22="○",$W$16-650000,"")
A23: =C22+1 -> 1622000 | B23: ～ | C23: 1623999 | D23: =IF(AND(A23<=E16,E16<=C23),"○","") | E23: =IF(D23="○",$E$16-650000,"") | G23: =I22+1 -> 1622000 | H23: ～ | I23: 1623999 | J23: =IF(AND(G23<=K16,K16<=I23),"○","") | K23: =IF(J23="○",$K$16-650000,"") | M23: =O22+1 -> 1622000 | N23: ～ | O23: 1623999 | P23: =IF(AND(M23<=Q16,Q16<=O23),"○","") | Q23: =IF(P23="○",$Q$16-650000,"") | S23: =U22+1 -> 1622000 | T23: ～ | U23: 1623999 | V23: =IF(AND(S23<=W16,W16<=U23),"○","") | W23: =IF(V23="○",$W$16-650000,"")
A24: =C23+1 -> 1624000 | B24: ～ | C24: 1627999 | D24: =IF(AND(A24<=E16,E16<=C24),"○","") | E24: =IF(D24="○",$E$16-650000,"") | G24: =I23+1 -> 1624000 | H24: ～ | I24: 1627999 | J24: =IF(AND(G24<=K16,K16<=I24),"○","") | K24: =IF(J24="○",$K$16-650000,"") | M24: =O23+1 -> 1624000 | N24: ～ | O24: 1627999 | P24: =IF(AND(M24<=Q16,Q16<=O24),"○","") | Q24: =IF(P24="○",$Q$16-650000,"") | S24: =U23+1 -> 1624000 | T24: ～ | U24: 1627999 | V24: =IF(AND(S24<=W16,W16<=U24),"○","") | W24: =IF(V24="○",$W$16-650000,"")
A25: =C24+1 -> 1628000 | B25: ～ | C25: 1899999 | D25: =IF(AND(A25<=E16,E16<=C25),"○","") | E25: =IF(D25="○",$E$16-650000,"") | G25: =I24+1 -> 1628000 | H25: ～ | I25: 1899999 | J25: =IF(AND(G25<=K16,K16<=I25),"○","") | K25: =IF(J25="○",$K$16-650000,"") | M25: =O24+1 -> 1628000 | N25: ～ | O25: 1899999 | P25: =IF(AND(M25<=Q16,Q16<=O25),"○","") | Q25: =IF(P25="○",$Q$16-650000,"") | S25: =U24+1 -> 1628000 | T25: ～ | U25: 1899999 | V25: =IF(AND(S25<=W16,W16<=U25),"○","") | W25: =IF(V25="○",$W$16-650000,"")
A26: =C25+1 -> 1900000 | B26: ～ | C26: 3599999 | D26: =IF(AND(A26<=E16,E16<=C26),"○","") | E26: =IF(D26="○",ROUNDDOWN(E16/4,-3)*2.8-80000,"") | G26: =I25+1 -> 1900000 | H26: ～ | I26: 3599999 | J26: =IF(AND(G26<=K16,K16<=I26),"○","") | K26: =IF(J26="○",ROUNDDOWN(K16/4,-3)*2.8-80000,"") | M26: =O25+1 -> 1900000 | N26: ～ | O26: 3599999 | P26: =IF(AND(M26<=Q16,Q16<=O26),"○","") | Q26: =IF(P26="○",ROUNDDOWN(Q16/4,-3)*2.8-80000,"") | S26: =U25+1 -> 1900000 | T26: ～ | U26: 3599999 | V26: =IF(AND(S26<=W16,W16<=U26),"○","") | W26: =IF(V26="○",ROUNDDOWN(W16/4,-3)*2.8-80000,"")
A27: =C26+1 -> 3600000 | B27: ～ | C27: 6599999 | D27: =IF(AND(A27<=E16,E16<=C27),"○","") | E27: =IF(D27="○",ROUNDDOWN(E16/4,-3)*3.2-440000,"") | G27: =I26+1 -> 3600000 | H27: ～ | I27: 6599999 | J27: =IF(AND(G27<=K16,K16<=I27),"○","") | K27: =IF(J27="○",ROUNDDOWN(K16/4,-3)*3.2-440000,"") | M27: =O26+1 -> 3600000 | N27: ～ | O27: 6599999 | P27: =IF(AND(M27<=Q16,Q16<=O27),"○","") | Q27: =IF(P27="○",ROUNDDOWN(Q16/4,-3)*3.2-440000,"") | S27: =U26+1 -> 3600000 | T27: ～ | U27: 6599999 | V27: =IF(AND(S27<=W16,W16<=U27),"○","") | W27: =IF(V27="○",ROUNDDOWN(W16/4,-3)*3.2-440000,"")
A28: =C27+1 -> 6600000 | B28: ～ | C28: 8500000 | D28: =IF(AND(A28<=E16,E16<=C28),"○","") | E28: =IF(D28="○",E16*0.9-1100000,"") | G28: =I27+1 -> 6600000 | H28: ～ | I28: 8500000 | J28: =IF(AND(G28<=K16,K16<=I28),"○","") | K28: =IF(J28="○",K16*0.9-1100000,"") | M28: =O27+1 -> 6600000 | N28: ～ | O28: 8500000 | P28: =IF(AND(M28<=Q16,Q16<=O28),"○","") | Q28: =IF(P28="○",Q16*0.9-1100000,"") | S28: =U27+1 -> 6600000 | T28: ～ | U28: 8500000 | V28: =IF(AND(S28<=W16,W16<=U28),"○","") | W28: =IF(V28="○",W16*0.9-1100000,"")
A29: =C28+1 -> 8500001 | B29: ～ | C29: 999999999 | D29: =IF(AND(A29<=E16,E16<=C29),"○","") | E29: =IF(D29="○",E16-1950000,"") | G29: =I28+1 -> 8500001 | H29: ～ | I29: 999999999 | J29: =IF(AND(G29<=K16,K16<=I29),"○","") | K29: =IF(J29="○",K16-1950000,"") | M29: =O28+1 -> 8500001 | N29: ～ | O29: 999999999 | P29: =IF(AND(M29<=Q16,Q16<=O29),"○","") | Q29: =IF(P29="○",Q16-1950000,"") | S29: =U28+1 -> 8500001 | T29: ～ | U29: 999999999 | V29: =IF(AND(S29<=W16,W16<=U29),"○","") | W29: =IF(V29="○",W16-1950000,"")

Sheet 年金所得
A1: 世帯主 | B1: =【令和8年度】大崎上島町国民健康保険税試算!D9 | F1: 年金収入： | G1: =【令和8年度】大崎上島町国民健康保険税試算!I9 -> 0 | I1: 世帯員① | J1: =【令和8年度】大崎上島町国民健康保険税試算!D10 | N1: 年金収入： | O1: =【令和8年度】大崎上島町国民健康保険税試算!I10 -> 0 | Q1: 世帯員② | R1: =【令和8年度】大崎上島町国民健康保険税試算!D11 | V1: 年金収入： | W1: =【令和8年度】大崎上島町国民健康保険税試算!I11 -> 0 | Y1: 世帯員③ | Z1: =【令和8年度】大崎上島町国民健康保険税試算!D12 | AD1: 年金収入： | AE1: =【令和8年度】大崎上島町国民健康保険税試算!I12 -> 0 | AG1: 世帯員④ | AH1: =【令和8年度】大崎上島町国民健康保険税試算!D13 | AL1: 年金収入： | AM1: =【令和8年度】大崎上島町国民健康保険税試算!I13 -> 0 | AO1: 世帯員⑤ | AP1: =【令和8年度】大崎上島町国民健康保険税試算!D14 | AT1: 年金収入： | AU1: =【令和8年度】大崎上島町国民健康保険税試算!I14 -> 0 | AW1: 世帯員⑥ | AX1: =【令和8年度】大崎上島町国民健康保険税試算!D15 | BB1: 年金収入： | BC1: =【令和8年度】大崎上島町国民健康保険税試算!I15 -> 0 | BE1: 世帯員⑦ | BF1: =【令和8年度】大崎上島町国民健康保険税試算!D16 | BJ1: 年金収入： | BK1: =【令和8年度】大崎上島町国民健康保険税試算!I16 -> 0
E2: 年金以外の合計所得： | G2: =【令和8年度】大崎上島町国民健康保険税試算!H9+【令和8年度】大崎上島町国民健康保険税試算!K9 -> 0 | M2: 年金以外の合計所得： | O2: =【令和8年度】大崎上島町国民健康保険税試算!H10+【令和8年度】大崎上島町国民健康保険税試算!K10 -> 0 | U2: 年金以外の合計所得： | W2: =【令和8年度】大崎上島町国民健康保険税試算!H11+【令和8年度】大崎上島町国民健康保険税試算!K11 -> 0 | AC2: 年金以外の合計所得： | AE2: =【令和8年度】大崎上島町国民健康保険税試算!H12+【令和8年度】大崎上島町国民健康保険税試算!K12 -> 0 | AK2: 年金以外の合計所得： | AM2: =【令和8年度】大崎上島町国民健康保険税試算!H13+【令和8年度】大崎上島町国民健康保険税試算!K13 -> 0 | AS2: 年金以外の合計所得： | AU2: =【令和8年度】大崎上島町国民健康保険税試算!H14+【令和8年度】大崎上島町国民健康保険税試算!K14 -> 0 | BA2: 年金以外の合計所得： | BC2: =【令和8年度】大崎上島町国民健康保険税試算!H15+【令和8年度】大崎上島町国民健康保険税試算!K15 -> 0 | BI2: 年金以外の合計所得： | BK2: =【令和8年度】大崎上島町国民健康保険税試算!H16+【令和8年度】大崎上島町国民健康保険税試算!K16 -> 0
F3: 年金所得： | G3: =MAX(G5:G34) -> 0 | N3: 年金所得： | O3: =MAX(O5:O34) -> 0 | V3: 年金所得： | W3: =MAX(W5:W34) -> 0 | AD3: 年金所得： | AE3: =MAX(AE5:AE34) -> 0 | AL3: 年金所得： | AM3: =MAX(AM5:AM34) -> 0 | AT3: 年金所得： | AU3: =MAX(AU5:AU34) -> 0 | BB3: 年金所得： | BC3: =MAX(BC5:BC34) -> 0 | BJ3: 年金所得： | BK3: =MAX(BK5:BK34) -> 0
A4: 年齢判定 | C4: 年金以外の合計所得判定 | E4: 年金収入額判定 | G4: 年金所得 | I4: 年齢判定 | K4: 年金以外の合計所得判定 | M4: 年金収入額判定 | O4: 年金所得 | Q4: 年齢判定 | S4: 年金以外の合計所得判定 | U4: 年金収入額判定 | W4: 年金所得 | Y4: 年齢判定 | AA4: 年金以外の合計所得判定 | AC4: 年金収入額判定 | AE4: 年金所得 | AG4: 年齢判定 | AI4: 年金以外の合計所得判定 | AK4: 年金収入額判定 | AM4: 年金所得 | AO4: 年齢判定 | AQ4: 年金以外の合計所得判定 | AS4: 年金収入額判定 | AU4: 年金所得 | AW4: 年齢判定 | AY4: 年金以外の合計所得判定 | BA4: 年金収入額判定 | BC4: 年金所得 | BE4: 年齢判定 | BG4: 年金以外の合計所得判定 | BI4: 年金収入額判定 | BK4: 年金所得
A5: 65歳未満 | B5: =IF(B1<65,"○","") | C5: 1000万以下 | D5: =IF(B5="○",IF(G2<=10000000,"○",""),"") | E5: 130万円以下 | F5: =IF(D5="○",IF(G1<=1300000,"○",""),"") | G5: =IF(F5="○",MAX(0,G1-600000),"") | I5: 65歳未満 | J5: =IF(J1<65,"○","") | K5: 1000万以下 | L5: =IF(J5="○",IF(O2<=10000000,"○",""),"") | M5: 130万円以下 | N5: =IF(L5="○",IF(O1<=1300000,"○",""),"") | O5: =IF(N5="○",MAX(0,O1-600000),"") | Q5: 65歳未満 | R5: =IF(R1<65,"○","") | S5: 1000万以下 | T5: =IF(R5="○",IF(W2<=10000000,"○",""),"") | U5: 130万円以下 | V5: =IF(T5="○",IF(W1<=1300000,"○",""),"") | W5: =IF(V5="○",MAX(0,W1-600000),"") | Y5: 65歳未満 | Z5: =IF(Z1<65,"○","") | AA5: 1000万以下 | AB5: =IF(Z5="○",IF(AE2<=10000000,"○",""),"") | AC5: 130万円以下 | AD5: =IF(AB5="○",IF(AE1<=1300000,"○",""),"") | AE5: =IF(AD5="○",MAX(0,AE1-600000),"") | AG5: 65歳未満 | AH5: =IF(AH1<65,"○","") | AI5: 1000万以下 | AJ5: =IF(AH5="○",IF(AM2<=10000000,"○",""),"") | AK5: 130万円以下 | AL5: =IF(AJ5="○",IF(AM1<=1300000,"○",""),"") | AM5: =IF(AL5="○",MAX(0,AM1-600000),"") | AO5: 65歳未満 | AP5: =IF(AP1<65,"○","") | AQ5: 1000万以下 | AR5: =IF(AP5="○",IF(AU2<=10000000,"○",""),"") | AS5: 130万円以下 | AT5: =IF(AR5="○",IF(AU1<=1300000,"○",""),"") | AU5: =IF(AT5="○",MAX(0,AU1-600000),"") | AW5: 65歳未満 | AX5: =IF(AX1<65,"○","") | AY5: 1000万以下 | AZ5: =IF(AX5="○",IF(BC2<=10000000,"○",""),"") | BA5: 130万円以下 | BB5: =IF(AZ5="○",IF(BC1<=1300000,"○",""),"") | BC5: =IF(BB5="○",MAX(0,BC1-600000),"") | BE5: 65歳未満 | BF5: =IF(BF1<65,"○","") | BG5: 1000万以下 | BH5: =IF(BF5="○",IF(BK2<=10000000,"○",""),"") | BI5: 130万円以下 | BJ5: =IF(BH5="○",IF(BK1<=1300000,"○",""),"") | BK5: =IF(BJ5="○",MAX(0,BK1-600000),"")
E6: 130万円超 410万円以下 | F6: =IF(D5="○",IF(AND(1300000<G1,G1<=4100000),"○",""),"") | G6: =IF(F6="○",MAX(0,G1*0.75-275000),"") | M6: 130万円超 410万円以下 | N6: =IF(L5="○",IF(AND(1300000<O1,O1<=4100000),"○",""),"") | O6: =IF(N6="○",MAX(0,O1*0.75-275000),"") | U6: 130万円超 410万円以下 | V6: =IF(T5="○",IF(AND(1300000<W1,W1<=4100000),"○",""),"") | W6: =IF(V6="○",MAX(0,W1*0.75-275000),"") | AC6: 130万円超 410万円以下 | AD6: =IF(AB5="○",IF(AND(1300000<AE1,AE1<=4100000),"○",""),"") | AE6: =IF(AD6="○",MAX(0,AE1*0.75-275000),"") | AK6: 130万円超 410万円以下 | AL6: =IF(AJ5="○",IF(AND(1300000<AM1,AM1<=4100000),"○",""),"") | AM6: =IF(AL6="○",MAX(0,AM1*0.75-275000),"") | AS6: 130万円超 410万円以下 | AT6: =IF(AR5="○",IF(AND(1300000<AU1,AU1<=4100000),"○",""),"") | AU6: =IF(AT6="○",MAX(0,AU1*0.75-275000),"") | BA6: 130万円超 410万円以下 | BB6: =IF(AZ5="○",IF(AND(1300000<BC1,BC1<=4100000),"○",""),"") | BC6: =IF(BB6="○",MAX(0,BC1*0.75-275000),"") | BI6: 130万円超 410万円以下 | BJ6: =IF(BH5="○",IF(AND(1300000<BK1,BK1<=4100000),"○",""),"") | BK6: =IF(BJ6="○",MAX(0,BK1*0.75-275000),"")
E7: 410万円超 770万円以下 | F7: =IF(D5="○",IF(AND(4100000<G1,G1<=7700000),"○",""),"") | G7: =IF(F7="○",MAX(0,G1*0.85-685000),"") | M7: 410万円超 770万円以下 | N7: =IF(L5="○",IF(AND(4100000<O1,O1<=7700000),"○",""),"") | O7: =IF(N7="○",MAX(0,O1*0.85-685000),"") | U7: 410万円超 770万円以下 | V7: =IF(T5="○",IF(AND(4100000<W1,W1<=7700000),"○",""),"") | W7: =IF(V7="○",MAX(0,W1*0.85-685000),"") | AC7: 410万円超 770万円以下 | AD7: =IF(AB5="○",IF(AND(4100000<AE1,AE1<=7700000),"○",""),"") | AE7: =IF(AD7="○",MAX(0,AE1*0.85-685000),"") | AK7: 410万円超 770万円以下 | AL7: =IF(AJ5="○",IF(AND(4100000<AM1,AM1<=7700000),"○",""),"") | AM7: =IF(AL7="○",MAX(0,AM1*0.85-685000),"") | AS7: 410万円超 770万円以下 | AT7: =IF(AR5="○",IF(AND(4100000<AU1,AU1<=7700000),"○",""),"") | AU7: =IF(AT7="○",MAX(0,AU1*0.85-685000),"") | BA7: 410万円超 770万円以下 | BB7: =IF(AZ5="○",IF(AND(4100000<BC1,BC1<=7700000),"○",""),"") | BC7: =IF(BB7="○",MAX(0,BC1*0.85-685000),"") | BI7: 410万円超 770万円以下 | BJ7: =IF(BH5="○",IF(AND(4100000<BK1,BK1<=7700000),"○",""),"") | BK7: =IF(BJ7="○",MAX(0,BK1*0.85-685000),"")
E8: 770万円超 1000万円以下 | F8: =IF(D5="○",IF(AND(7700000<G1,G1<=10000000),"○",""),"") | G8: =IF(F8="○",MAX(0,G1*0.95-1455000),"") | M8: 770万円超 1000万円以下 | N8: =IF(L5="○",IF(AND(7700000<O1,O1<=10000000),"○",""),"") | O8: =IF(N8="○",MAX(0,O1*0.95-1455000),"") | U8: 770万円超 1000万円以下 | V8: =IF(T5="○",IF(AND(7700000<W1,W1<=10000000),"○",""),"") | W8: =IF(V8="○",MAX(0,W1*0.95-1455000),"") | AC8: 770万円超 1000万円以下 | AD8: =IF(AB5="○",IF(AND(7700000<AE1,AE1<=10000000),"○",""),"") | AE8: =IF(AD8="○",MAX(0,AE1*0.95-1455000),"") | AK8: 770万円超 1000万円以下 | AL8: =IF(AJ5="○",IF(AND(7700000<AM1,AM1<=10000000),"○",""),"") | AM8: =IF(AL8="○",MAX(0,AM1*0.95-1455000),"") | AS8: 770万円超 1000万円以下 | AT8: =IF(AR5="○",IF(AND(7700000<AU1,AU1<=10000000),"○",""),"") | AU8: =IF(AT8="○",MAX(0,AU1*0.95-1455000),"") | BA8: 770万円超 1000万円以下 | BB8: =IF(AZ5="○",IF(AND(7700000<BC1,BC1<=10000000),"○",""),"") | BC8: =IF(BB8="○",MAX(0,BC1*0.95-1455000),"") | BI8: 770万円超 1000万円以下 | BJ8: =IF(BH5="○",IF(AND(7700000<BK1,BK1<=10000000),"○",""),"") | BK8: =IF(BJ8="○",MAX(0,BK1*0.95-1455000),"")
E9: 1000万円超 | F9: =IF(D5="○",IF(10000000<G1,"○",""),"") | G9: =IF(F9="○",MAX(0,G1-1955000),"") | M9: 1000万円超 | N9: =IF(L5="○",IF(10000000<O1,"○",""),"") | O9: =IF(N9="○",MAX(0,O1-1955000),"") | U9: 1000万円超 | V9: =IF(T5="○",IF(10000000<W1,"○",""),"") | W9: =IF(V9="○",MAX(0,W1-1955000),"") | AC9: 1000万円超 | AD9: =IF(AB5="○",IF(10000000<AE1,"○",""),"") | AE9: =IF(AD9="○",MAX(0,AE1-1955000),"") | AK9: 1000万円超 | AL9: =IF(AJ5="○",IF(10000000<AM1,"○",""),"") | AM9: =IF(AL9="○",MAX(0,AM1-1955000),"") | AS9: 1000万円超 | AT9: =IF(AR5="○",IF(10000000<AU1,"○",""),"") | AU9: =IF(AT9="○",MAX(0,AU1-1955000),"") | BA9: 1000万円超 | BB9: =IF(AZ5="○",IF(10000000<BC1,"○",""),"") | BC9: =IF(BB9="○",MAX(0,BC1-1955000),"") | BI9: 1000万円超 | BJ9: =IF(BH5="○",IF(10000000<BK1,"○",""),"") | BK9: =IF(BJ9="○",MAX(0,BK1-1955000),"")
C10: 1000万円超 2000万円以下 | D10: =IF(B5="○",IF(AND(10000000<G2,G2<=20000000),"○",""),"") | E10: 130万円以下 | F10: =IF(D10="○",IF(G1<=1300000,"○",""),"") | G10: =IF(F10="○",MAX(0,G1-500000),"") | K10: 1000万円超 2000万円以下 | L10: =IF(J5="○",IF(AND(10000000<O2,O2<=20000000),"○",""),"") | M10: 130万円以下 | N10: =IF(L10="○",IF(O1<=1300000,"○",""),"") | O10: =IF(N10="○",MAX(0,O1-500000),"") | S10: 1000万円超 2000万円以下 | T10: =IF(R5="○",IF(AND(10000000<W2,W2<=20000000),"○",""),"") | U10: 130万円以下 | V10: =IF(T10="○",IF(W1<=1300000,"○",""),"") | W10: =IF(V10="○",MAX(0,W1-500000),"") | AA10: 1000万円超 2000万円以下 | AB10: =IF(Z5="○",IF(AND(10000000<AE2,AE2<=20000000),"○",""),"") | AC10: 130万円以下 | AD10: =IF(AB10="○",IF(AE1<=1300000,"○",""),"") | AE10: =IF(AD10="○",MAX(0,AE1-500000),"") | AI10: 1000万円超 2000万円以下 | AJ10: =IF(AH5="○",IF(AND(10000000<AM2,AM2<=20000000),"○",""),"") | AK10: 130万円以下 | AL10: =IF(AJ10="○",IF(AM1<=1300000,"○",""),"") | AM10: =IF(AL10="○",MAX(0,AM1-500000),"") | AQ10: 1000万円超 2000万円以下 | AR10: =IF(AP5="○",IF(AND(10000000<AU2,AU2<=20000000),"○",""),"") | AS10: 130万円以下 | AT10: =IF(AR10="○",IF(AU1<=1300000,"○",""),"") | AU10: =IF(AT10="○",MAX(0,AU1-500000),"") | AY10: 1000万円超 2000万円以下 | AZ10: =IF(AX5="○",IF(AND(10000000<BC2,BC2<=20000000),"○",""),"") | BA10: 130万円以下 | BB10: =IF(AZ10="○",IF(BC1<=1300000,"○",""),"") | BC10: =IF(BB10="○",MAX(0,BC1-500000),"") | BG10: 1000万円超 2000万円以下 | BH10: =IF(BF5="○",IF(AND(10000000<BK2,BK2<=20000000),"○",""),"") | BI10: 130万円以下 | BJ10: =IF(BH10="○",IF(BK1<=1300000,"○",""),"") | BK10: =IF(BJ10="○",MAX(0,BK1-500000),"")
E11: 130万円超 410万円以下 | F11: =IF(D10="○",IF(AND(1300000<G1,G1<=4100000),"○",""),"") | G11: =IF(F11="○",MAX(0,G1*0.75-175000),"") | M11: 130万円超 410万円以下 | N11: =IF(L10="○",IF(AND(1300000<O1,O1<=4100000),"○",""),"") | O11: =IF(N11="○",MAX(0,O1*0.75-175000),"") | U11: 130万円超 410万円以下 | V11: =IF(T10="○",IF(AND(1300000<W1,W1<=4100000),"○",""),"") | W11: =IF(V11="○",MAX(0,W1*0.75-175000),"") | AC11: 130万円超 410万円以下 | AD11: =IF(AB10="○",IF(AND(1300000<AE1,AE1<=4100000),"○",""),"") | AE11: =IF(AD11="○",MAX(0,AE1*0.75-175000),"") | AK11: 130万円超 410万円以下 | AL11: =IF(AJ10="○",IF(AND(1300000<AM1,AM1<=4100000),"○",""),"") | AM11: =IF(AL11="○",MAX(0,AM1*0.75-175000),"") | AS11: 130万円超 410万円以下 | AT11: =IF(AR10="○",IF(AND(1300000<AU1,AU1<=4100000),"○",""),"") | AU11: =IF(AT11="○",MAX(0,AU1*0.75-175000),"") | BA11: 130万円超 410万円以下 | BB11: =IF(AZ10="○",IF(AND(1300000<BC1,BC1<=4100000),"○",""),"") | BC11: =IF(BB11="○",MAX(0,BC1*0.75-175000),"") | BI11: 130万円超 410万円以下 | BJ11: =IF(BH10="○",IF(AND(1300000<BK1,BK1<=4100000),"○",""),"") | BK11: =IF(BJ11="○",MAX(0,BK1*0.75-175000),"")
E12: 410万円超 770万円以下 | F12: =IF(D10="○",IF(AND(4100000<G1,G1<=7700000),"○",""),"") | G12: =IF(F12="○",MAX(0,G1*0.85-585000),"") | M12: 410万円超 770万円以下 | N12: =IF(L10="○",IF(AND(4100000<O1,O1<=7700000),"○",""),"") | O12: =IF(N12="○",MAX(0,O1*0.85-585000),"") | U12: 410万円超 770万円以下 | V12: =IF(T10="○",IF(AND(4100000<W1,W1<=7700000),"○",""),"") | W12: =IF(V12="○",MAX(0,W1*0.85-585000),"") | AC12: 410万円超 770万円以下 | AD12: =IF(AB10="○",IF(AND(4100000<AE1,AE1<=7700000),"○",""),"") | AE12: =IF(AD12="○",MAX(0,AE1*0.85-585000),"") | AK12: 410万円超 770万円以下 | AL12: =IF(AJ10="○",IF(AND(4100000<AM1,AM1<=7700000),"○",""),"") | AM12: =IF(AL12="○",MAX(0,AM1*0.85-585000),"") | AS12: 410万円超 770万円以下 | AT12: =IF(AR10="○",IF(AND(4100000<AU1,AU1<=7700000),"○",""),"") | AU12: =IF(AT12="○",MAX(0,AU1*0.85-585000),"") | BA12: 410万円超 770万円以下 | BB12: =IF(AZ10="○",IF(AND(4100000<BC1,BC1<=7700000),"○",""),"") | BC12: =IF(BB12="○",MAX(0,BC1*0.85-585000),"") | BI12: 410万円超 770万円以下 | BJ12: =IF(BH10="○",IF(AND(4100000<BK1,BK1<=7700000),"○",""),"") | BK12: =IF(BJ12="○",MAX(0,BK1*0.85-585000),"")
E13: 770万円超 1000万円以下 | F13: =IF(D10="○",IF(AND(7700000<G1,G1<=10000000),"○",""),"") | G13: =IF(F13="○",MAX(0,G1*0.95-1355000),"") | M13: 770万円超 1000万円以下 | N13: =IF(L10="○",IF(AND(7700000<O1,O1<=10000000),"○",""),"") | O13: =IF(N13="○",MAX(0,O1*0.95-1355000),"") | U13: 770万円超 1000万円以下 | V13: =IF(T10="○",IF(AND(7700000<W1,W1<=10000000),"○",""),"") | W13: =IF(V13="○",MAX(0,W1*0.95-1355000),"") | AC13: 770万円超 1000万円以下 | AD13: =IF(AB10="○",IF(AND(7700000<AE1,AE1<=10000000),"○",""),"") | AE13: =IF(AD13="○",MAX(0,AE1*0.95-1355000),"") | AK13: 770万円超 1000万円以下 | AL13: =IF(AJ10="○",IF(AND(7700000<AM1,AM1<=10000000),"○",""),"") | AM13: =IF(AL13="○",MAX(0,AM1*0.95-1355000),"") | AS13: 770万円超 1000万円以下 | AT13: =IF(AR10="○",IF(AND(7700000<AU1,AU1<=10000000),"○",""),"") | AU13: =IF(AT13="○",MAX(0,AU1*0.95-1355000),"") | BA13: 770万円超 1000万円以下 | BB13: =IF(AZ10="○",IF(AND(7700000<BC1,BC1<=10000000),"○",""),"") | BC13: =IF(BB13="○",MAX(0,BC1*0.95-1355000),"") | BI13: 770万円超 1000万円以下 | BJ13: =IF(BH10="○",IF(AND(7700000<BK1,BK1<=10000000),"○",""),"") | BK13: =IF(BJ13="○",MAX(0,BK1*0.95-1355000),"")
E14: 1000万円超 | F14: =IF(D10="○",IF(10000000<G1,"○",""),"") | G14: =IF(F14="○",MAX(0,G1-1855000),"") | M14: 1000万円超 | N14: =IF(L10="○",IF(10000000<O1,"○",""),"") | O14: =IF(N14="○",MAX(0,O1-1855000),"") | U14: 1000万円超 | V14: =IF(T10="○",IF(10000000<W1,"○",""),"") | W14: =IF(V14="○",MAX(0,W1-1855000),"") | AC14: 1000万円超 | AD14: =IF(AB10="○",IF(10000000<AE1,"○",""),"") | AE14: =IF(AD14="○",MAX(0,AE1-1855000),"") | AK14: 1000万円超 | AL14: =IF(AJ10="○",IF(10000000<AM1,"○",""),"") | AM14: =IF(AL14="○",MAX(0,AM1-1855000),"") | AS14: 1000万円超 | AT14: =IF(AR10="○",IF(10000000<AU1,"○",""),"") | AU14: =IF(AT14="○",MAX(0,AU1-1855000),"") | BA14: 1000万円超 | BB14: =IF(AZ10="○",IF(10000000<BC1,"○",""),"") | BC14: =IF(BB14="○",MAX(0,BC1-1855000),"") | BI14: 1000万円超 | BJ14: =IF(BH10="○",IF(10000000<BK1,"○",""),"") | BK14: =IF(BJ14="○",MAX(0,BK1-1855000),"")
C15: 2000万円超 | D15: =IF(B5="○",IF(20000000<G2,"○",""),"") | E15: 130万円以下 | F15: =IF(D15="○",IF(G1<=1300000,"○",""),"") | G15: =IF(F15="○",MAX(0,G1-400000),"") | K15: 2000万円超 | L15: =IF(J5="○",IF(20000000<O2,"○",""),"") | M15: 130万円以下 | N15: =IF(L15="○",IF(O1<=1300000,"○",""),"") | O15: =IF(N15="○",MAX(0,O1-400000),"") | S15: 2000万円超 | T15: =IF(R5="○",IF(20000000<W2,"○",""),"") | U15: 130万円以下 | V15: =IF(T15="○",IF(W1<=1300000,"○",""),"") | W15: =IF(V15="○",MAX(0,W1-400000),"") | AA15: 2000万円超 | AB15: =IF(Z5="○",IF(20000000<AE2,"○",""),"") | AC15: 130万円以下 | AD15: =IF(AB15="○",IF(AE1<=1300000,"○",""),"") | AE15: =IF(AD15="○",MAX(0,AE1-400000),"") | AI15: 2000万円超 | AJ15: =IF(AH5="○",IF(20000000<AM2,"○",""),"") | AK15: 130万円以下 | AL15: =IF(AJ15="○",IF(AM1<=1300000,"○",""),"") | AM15: =IF(AL15="○",MAX(0,AM1-400000),"") | AQ15: 2000万円超 | AR15: =IF(AP5="○",IF(20000000<AU2,"○",""),"") | AS15: 130万円以下 | AT15: =IF(AR15="○",IF(AU1<=1300000,"○",""),"") | AU15: =IF(AT15="○",MAX(0,AU1-400000),"") | AY15: 2000万円超 | AZ15: =IF(AX5="○",IF(20000000<BC2,"○",""),"") | BA15: 130万円以下 | BB15: =IF(AZ15="○",IF(BC1<=1300000,"○",""),"") | BC15: =IF(BB15="○",MAX(0,BC1-400000),"") | BG15: 2000万円超 | BH15: =IF(BF5="○",IF(20000000<BK2,"○",""),"") | BI15: 130万円以下 | BJ15: =IF(BH15="○",IF(BK1<=1300000,"○",""),"") | BK15: =IF(BJ15="○",MAX(0,BK1-400000),"")
E16: 130万円超 410万円以下 | F16: =IF(D15="○",IF(AND(1300000<G1,G1<=4100000),"○",""),"") | G16: =IF(F16="○",MAX(0,G1*0.75-75000),"") | M16: 130万円超 410万円以下 | N16: =IF(L15="○",IF(AND(1300000<O1,O1<=4100000),"○",""),"") | O16: =IF(N16="○",MAX(0,O1*0.75-75000),"") | U16: 130万円超 410万円以下 | V16: =IF(T15="○",IF(AND(1300000<W1,W1<=4100000),"○",""),"") | W16: =IF(V16="○",MAX(0,W1*0.75-75000),"") | AC16: 130万円超 410万円以下 | AD16: =IF(AB15="○",IF(AND(1300000<AE1,AE1<=4100000),"○",""),"") | AE16: =IF(AD16="○",MAX(0,AE1*0.75-75000),"") | AK16: 130万円超 410万円以下 | AL16: =IF(AJ15="○",IF(AND(1300000<AM1,AM1<=4100000),"○",""),"") | AM16: =IF(AL16="○",MAX(0,AM1*0.75-75000),"") | AS16: 130万円超 410万円以下 | AT16: =IF(AR15="○",IF(AND(1300000<AU1,AU1<=4100000),"○",""),"") | AU16: =IF(AT16="○",MAX(0,AU1*0.75-75000),"") | BA16: 130万円超 410万円以下 | BB16: =IF(AZ15="○",IF(AND(1300000<BC1,BC1<=4100000),"○",""),"") | BC16: =IF(BB16="○",MAX(0,BC1*0.75-75000),"") | BI16: 130万円超 410万円以下 | BJ16: =IF(BH15="○",IF(AND(1300000<BK1,BK1<=4100000),"○",""),"") | BK16: =IF(BJ16="○",MAX(0,BK1*0.75-75000),"")
E17: 410万円超 770万円以下 | F17: =IF(D15="○",IF(AND(4100000<G1,G1<=7700000),"○",""),"") | G17: =IF(F17="○",MAX(0,G1*0.85-485000),"") | M17: 410万円超 770万円以下 | N17: =IF(L15="○",IF(AND(4100000<O1,O1<=7700000),"○",""),"") | O17: =IF(N17="○",MAX(0,O1*0.85-485000),"") | U17: 410万円超 770万円以下 | V17: =IF(T15="○",IF(AND(4100000<W1,W1<=7700000),"○",""),"") | W17: =IF(V17="○",MAX(0,W1*0.85-485000),"") | AC17: 410万円超 770万円以下 | AD17: =IF(AB15="○",IF(AND(4100000<AE1,AE1<=7700000),"○",""),"") | AE17: =IF(AD17="○",MAX(0,AE1*0.85-485000),"") | AK17: 410万円超 770万円以下 | AL17: =IF(AJ15="○",IF(AND(4100000<AM1,AM1<=7700000),"○",""),"") | AM17: =IF(AL17="○",MAX(0,AM1*0.85-485000),"") | AS17: 410万円超 770万円以下 | AT17: =IF(AR15="○",IF(AND(4100000<AU1,AU1<=7700000),"○",""),"") | AU17: =IF(AT17="○",MAX(0,AU1*0.85-485000),"") | BA17: 410万円超 770万円以下 | BB17: =IF(AZ15="○",IF(AND(4100000<BC1,BC1<=7700000),"○",""),"") | BC17: =IF(BB17="○",MAX(0,BC1*0.85-485000),"") | BI17: 410万円超 770万円以下 | BJ17: =IF(BH15="○",IF(AND(4100000<BK1,BK1<=7700000),"○",""),"") | BK17: =IF(BJ17="○",MAX(0,BK1*0.85-485000),"")
E18: 770万円超 1000万円以下 | F18: =IF(D15="○",IF(AND(7700000<G1,G1<=10000000),"○",""),"") | G18: =IF(F18="○",MAX(0,G1*0.95-1255000),"") | M18: 770万円超 1000万円以下 | N18: =IF(L15="○",IF(AND(7700000<O1,O1<=10000000),"○",""),"") | O18: =IF(N18="○",MAX(0,O1*0.95-1255000),"") | U18: 770万円超 1000万円以下 | V18: =IF(T15="○",IF(AND(7700000<W1,W1<=10000000),"○",""),"") | W18: =IF(V18="○",MAX(0,W1*0.95-1255000),"") | AC18: 770万円超 1000万円以下 | AD18: =IF(AB15="○",IF(AND(7700000<AE1,AE1<=10000000),"○",""),"") | AE18: =IF(AD18="○",MAX(0,AE1*0.95-1255000),"") | AK18: 770万円超 1000万円以下 | AL18: =IF(AJ15="○",IF(AND(7700000<AM1,AM1<=10000000),"○",""),"") | AM18: =IF(AL18="○",MAX(0,AM1*0.95-1255000),"") | AS18: 770万円超 1000万円以下 | AT18: =IF(AR15="○",IF(AND(7700000<AU1,AU1<=10000000),"○",""),"") | AU18: =IF(AT18="○",MAX(0,AU1*0.95-1255000),"") | BA18: 770万円超 1000万円以下 | BB18: =IF(AZ15="○",IF(AND(7700000<BC1,BC1<=10000000),"○",""),"") | BC18: =IF(BB18="○",MAX(0,BC1*0.95-1255000),"") | BI18: 770万円超 1000万円以下 | BJ18: =IF(BH15="○",IF(AND(7700000<BK1,BK1<=10000000),"○",""),"") | BK18: =IF(BJ18="○",MAX(0,BK1*0.95-1255000),"")
E19: 1000万円超 | F19: =IF(D15="○",IF(10000000<G1,"○",""),"") | G19: =IF(F19="○",MAX(0,G1-1755000),"") | M19: 1000万円超 | N19: =IF(L15="○",IF(10000000<O1,"○",""),"") | O19: =IF(N19="○",MAX(0,O1-1755000),"") | U19: 1000万円超 | V19: =IF(T15="○",IF(10000000<W1,"○",""),"") | W19: =IF(V19="○",MAX(0,W1-1755000),"") | AC19: 1000万円超 | AD19: =IF(AB15="○",IF(10000000<AE1,"○",""),"") | AE19: =IF(AD19="○",MAX(0,AE1-1755000),"") | AK19: 1000万円超 | AL19: =IF(AJ15="○",IF(10000000<AM1,"○",""),"") | AM19: =IF(AL19="○",MAX(0,AM1-1755000),"") | AS19: 1000万円超 | AT19: =IF(AR15="○",IF(10000000<AU1,"○",""),"") | AU19: =IF(AT19="○",MAX(0,AU1-1755000),"") | BA19: 1000万円超 | BB19: =IF(AZ15="○",IF(10000000<BC1,"○",""),"") | BC19: =IF(BB19="○",MAX(0,BC1-1755000),"") | BI19: 1000万円超 | BJ19: =IF(BH15="○",IF(10000000<BK1,"○",""),"") | BK19: =IF(BJ19="○",MAX(0,BK1-1755000),"")
A20: 65歳以上 | B20: =IF(B1="","",IF(65<=B1,"○","")) | C20: 1000万以下 | D20: =IF(B20="○",IF(G2<=10000000,"○",""),"") | E20: 330万円以下 | F20: =IF(D20="○",IF(G1<=3300000,"○",""),"") | G20: =IF(F20="○",MAX(0,G1-1100000),"") | I20: 65歳以上 | J20: =IF(J1="","",IF(65<=J1,"○","")) | K20: 1000万以下 | L20: =IF(J20="○",IF(O2<=10000000,"○",""),"") | M20: 330万円以下 | N20: =IF(L20="○",IF(O1<=3300000,"○",""),"") | O20: =IF(N20="○",MAX(0,O1-1100000),"") | Q20: 65歳以上 | R20: =IF(R1="","",IF(65<=R1,"○","")) | S20: 1000万以下 | T20: =IF(R20="○",IF(W2<=10000000,"○",""),"") | U20: 330万円以下 | V20: =IF(T20="○",IF(W1<=3300000,"○",""),"") | W20: =IF(V20="○",MAX(0,W1-1100000),"") | Y20: 65歳以上 | Z20: =IF(Z1="","",IF(65<=Z1,"○","")) | AA20: 1000万以下 | AB20: =IF(Z20="○",IF(AE2<=10000000,"○",""),"") | AC20: 330万円以下 | AD20: =IF(AB20="○",IF(AE1<=3300000,"○",""),"") | AE20: =IF(AD20="○",MAX(0,AE1-1100000),"") | AG20: 65歳以上 | AH20: =IF(AH1="","",IF(65<=AH1,"○","")) | AI20: 1000万以下 | AJ20: =IF(AH20="○",IF(AM2<=10000000,"○",""),"") | AK20: 330万円以下 | AL20: =IF(AJ20="○",IF(AM1<=3300000,"○",""),"") | AM20: =IF(AL20="○",MAX(0,AM1-1100000),"") | AO20: 65歳以上 | AP20: =IF(AP1="","",IF(65<=AP1,"○","")) | AQ20: 1000万以下 | AR20: =IF(AP20="○",IF(AU2<=10000000,"○",""),"") | AS20: 330万円以下 | AT20: =IF(AR20="○",IF(AU1<=3300000,"○",""),"") | AU20: =IF(AT20="○",MAX(0,AU1-1100000),"") | AW20: 65歳以上 | AX20: =IF(AX1="","",IF(65<=AX1,"○","")) | AY20: 1000万以下 | AZ20: =IF(AX20="○",IF(BC2<=10000000,"○",""),"") | BA20: 330万円以下 | BB20: =IF(AZ20="○",IF(BC1<=3300000,"○",""),"") | BC20: =IF(BB20="○",MAX(0,BC1-1100000),"") | BE20: 65歳以上 | BF20: =IF(BF1="","",IF(65<=BF1,"○","")) | BG20: 1000万以下 | BH20: =IF(BF20="○",IF(BK2<=10000000,"○",""),"") | BI20: 330万円以下 | BJ20: =IF(BH20="○",IF(BK1<=3300000,"○",""),"") | BK20: =IF(BJ20="○",MAX(0,BK1-1100000),"")
E21: 330万円超 410万円以下 | F21: =IF(D20="○",IF(AND(3300000<G1,G1<=4100000),"○",""),"") | G21: =IF(F21="○",MAX(G1*0.75-275000),"") | M21: 330万円超 410万円以下 | N21: =IF(L20="○",IF(AND(3300000<O1,O1<=4100000),"○",""),"") | O21: =IF(N21="○",MAX(O1*0.75-275000),"") | U21: 330万円超 410万円以下 | V21: =IF(T20="○",IF(AND(3300000<W1,W1<=4100000),"○",""),"") | W21: =IF(V21="○",MAX(W1*0.75-275000),"") | AC21: 330万円超 410万円以下 | AD21: =IF(AB20="○",IF(AND(3300000<AE1,AE1<=4100000),"○",""),"") | AE21: =IF(AD21="○",MAX(AE1*0.75-275000),"") | AK21: 330万円超 410万円以下 | AL21: =IF(AJ20="○",IF(AND(3300000<AM1,AM1<=4100000),"○",""),"") | AM21: =IF(AL21="○",MAX(AM1*0.75-275000),"") | AS21: 330万円超 410万円以下 | AT21: =IF(AR20="○",IF(AND(3300000<AU1,AU1<=4100000),"○",""),"") | AU21: =IF(AT21="○",MAX(AU1*0.75-275000),"") | BA21: 330万円超 410万円以下 | BB21: =IF(AZ20="○",IF(AND(3300000<BC1,BC1<=4100000),"○",""),"") | BC21: =IF(BB21="○",MAX(BC1*0.75-275000),"") | BI21: 330万円超 410万円以下 | BJ21: =IF(BH20="○",IF(AND(3300000<BK1,BK1<=4100000),"○",""),"") | BK21: =IF(BJ21="○",MAX(BK1*0.75-275000),"")
E22: 410万円超 770万円以下 | F22: =IF(D20="○",IF(AND(4100000<G1,G1<=7700000),"○",""),"") | G22: =IF(F22="○",MAX(G1*0.85-685000),"") | M22: 410万円超 770万円以下 | N22: =IF(L20="○",IF(AND(4100000<O1,O1<=7700000),"○",""),"") | O22: =IF(N22="○",MAX(O1*0.85-685000),"") | U22: 410万円超 770万円以下 | V22: =IF(T20="○",IF(AND(4100000<W1,W1<=7700000),"○",""),"") | W22: =IF(V22="○",MAX(W1*0.85-685000),"") | AC22: 410万円超 770万円以下 | AD22: =IF(AB20="○",IF(AND(4100000<AE1,AE1<=7700000),"○",""),"") | AE22: =IF(AD22="○",MAX(AE1*0.85-685000),"") | AK22: 410万円超 770万円以下 | AL22: =IF(AJ20="○",IF(AND(4100000<AM1,AM1<=7700000),"○",""),"") | AM22: =IF(AL22="○",MAX(AM1*0.85-685000),"") | AS22: 410万円超 770万円以下 | AT22: =IF(AR20="○",IF(AND(4100000<AU1,AU1<=7700000),"○",""),"") | AU22: =IF(AT22="○",MAX(AU1*0.85-685000),"") | BA22: 410万円超 770万円以下 | BB22: =IF(AZ20="○",IF(AND(4100000<BC1,BC1<=7700000),"○",""),"") | BC22: =IF(BB22="○",MAX(BC1*0.85-685000),"") | BI22: 410万円超 770万円以下 | BJ22: =IF(BH20="○",IF(AND(4100000<BK1,BK1<=7700000),"○",""),"") | BK22: =IF(BJ22="○",MAX(BK1*0.85-685000),"")
E23: 770万円超 1000万円以下 | F23: =IF(D20="○",IF(AND(7700000<G1,G1<=10000000),"○",""),"") | G23: =IF(F23="○",MAX(0,G1*0.95-1455000),"") | M23: 770万円超 1000万円以下 | N23: =IF(L20="○",IF(AND(7700000<O1,O1<=10000000),"○",""),"") | O23: =IF(N23="○",MAX(0,O1*0.95-1455000),"") | U23: 770万円超 1000万円以下 | V23: =IF(T20="○",IF(AND(7700000<W1,W1<=10000000),"○",""),"") | W23: =IF(V23="○",MAX(0,W1*0.95-1455000),"") | AC23: 770万円超 1000万円以下 | AD23: =IF(AB20="○",IF(AND(7700000<AE1,AE1<=10000000),"○",""),"") | AE23: =IF(AD23="○",MAX(0,AE1*0.95-1455000),"") | AK23: 770万円超 1000万円以下 | AL23: =IF(AJ20="○",IF(AND(7700000<AM1,AM1<=10000000),"○",""),"") | AM23: =IF(AL23="○",MAX(0,AM1*0.95-1455000),"") | AS23: 770万円超 1000万円以下 | AT23: =IF(AR20="○",IF(AND(7700000<AU1,AU1<=10000000),"○",""),"") | AU23: =IF(AT23="○",MAX(0,AU1*0.95-1455000),"") | BA23: 770万円超 1000万円以下 | BB23: =IF(AZ20="○",IF(AND(7700000<BC1,BC1<=10000000),"○",""),"") | BC23: =IF(BB23="○",MAX(0,BC1*0.95-1455000),"") | BI23: 770万円超 1000万円以下 | BJ23: =IF(BH20="○",IF(AND(7700000<BK1,BK1<=10000000),"○",""),"") | BK23: =IF(BJ23="○",MAX(0,BK1*0.95-1455000),"")
